BEGIN:VCALENDAR
PRODID:NingEventWidget-v1
VERSION:2.0
METHOD:PUBLISH
BEGIN:VTIMEZONE
TZID:Pacific/Midway
X-LIC-LOCATION:Pacific/Midway
BEGIN:STANDARD
TZOFFSETFROM:-1100
TZOFFSETTO:-1100
TZNAME:SST
DTSTART:19700101T000000
END:STANDARD
END:VTIMEZONE
BEGIN:VEVENT
UID:5072275:Event:498642
DTSTAMP:20260422T224425Z
SUMMARY:A TRIP DOWN MEMORY LANE CAR SHOW -Newnan, GA
DESCRIPTION:A TRIP DOWN MEMORY LANE SHOW & SHINE CAR SHOW.TO BE HELD J
 UNE 15TH.2012  FROM 2-4 PM\nFREE TO ALL ,OPEN TO ALL VEHICLES. FREE R
 EFRESHMENTS,& AWARDS.\nHELD AT: SAVANNAH COURT ASSISTED LIVING CENTER\
 n27 BELK ROAD  NEWNAN,GA.30265\nMORE INFO:MARY 706-668-7731\n\nFor mo
 re information visit https://www.southeastwheelsevents.com/events/a-tr
 ip-down-memory-lane-car-show
DTSTART;TZID=Pacific/Midway:20120615T140000
DTEND;TZID=Pacific/Midway:20120615T160000
CATEGORIES:car, truck, "&", bike, show
LOCATION:SAVANNAH COURT ASSISTED LIVING CENTER
WEBSITE:
URL:
CONTACT:706--668-7731
ORGANIZER;CN="mary davenport":https://www.southeastwheelsevents.com/pr
 ofile/marydavenport
ATTACH;FMTTYPE="image/jpeg":
ATTENDEE;ROLE=REQ-PARTICIPANT;PARTSTAT=ACCEPTED;RSVP=TRUE;CN="mary dav
 enport":https://www.southeastwheelsevents.com/profile/marydavenport
END:VEVENT
END:VCALENDAR
