BEGIN:VCALENDAR
PRODID:NingEventWidget-v1
VERSION:2.0
METHOD:PUBLISH
BEGIN:VTIMEZONE
TZID:Pacific/Midway
X-LIC-LOCATION:Pacific/Midway
BEGIN:STANDARD
TZOFFSETFROM:-1100
TZOFFSETTO:-1100
TZNAME:SST
DTSTART:19700101T000000
END:STANDARD
END:VTIMEZONE
BEGIN:VEVENT
UID:5072275:Event:684342
DTSTAMP:20260421T231422Z
SUMMARY:AACA Southeastern Divisional Tour -Flat Rock, NC
DESCRIPTION:AACA Southeastern Divisional Tour -Flat Rock, NC\n\nFor mo
 re information visit https://www.southeastwheelsevents.com/events/aaca
 -southeastern-divisional-tour-flat-rock-nc
DTSTART;TZID=Pacific/Midway:20130818T000000
DTEND;TZID=Pacific/Midway:20130821T235900
CATEGORIES:aaca, tour
LOCATION:Flat Rock
WEBSITE:
URL:
CONTACT:828-894-5725
ORGANIZER:AACA
ATTACH;FMTTYPE="image/jpeg":http://storage.ning.com/topology/rest/1.0/
 file/get/967647475?profile=original
ATTENDEE;ROLE=REQ-PARTICIPANT;PARTSTAT=ACCEPTED;RSVP=TRUE;CN="Jack Tho
 mas":https://www.southeastwheelsevents.com/profile/JackThomas
END:VEVENT
END:VCALENDAR
