BEGIN:VCALENDAR
PRODID:NingEventWidget-v1
VERSION:2.0
METHOD:PUBLISH
BEGIN:VTIMEZONE
TZID:Pacific/Midway
X-LIC-LOCATION:Pacific/Midway
BEGIN:STANDARD
TZOFFSETFROM:-1100
TZOFFSETTO:-1100
TZNAME:SST
DTSTART:19700101T000000
END:STANDARD
END:VTIMEZONE
BEGIN:VEVENT
UID:5072275:Event:332760
DTSTAMP:20260423T142749Z
SUMMARY:\"HOT BRISTOL NIGHT'S \"AACA Southeastern Fall Meet -Bristol, 
 TN
DESCRIPTION:AACA Southeastern Fall Meet, Bristol, Tn is pleased to inv
 ite you to the 2012 Southeastern Fall Meet at the Bristol Motor Speedw
 ay, Bristol,TN \nJoin us for \"HOT BRISTOL NIGHTS\"\nCar Show August 
 10th 4PM to 9PM     \nState Street Bristol Closed and full of ant
 ique and rare cars\nTN/VA AACA show\nFood, Fun & entertainment for the
  whole Family\nMayberry Deputy on hand for laughs and fun,Paramount S
 how\nDrive your car on NASCAR track 2 -4 PM\nDoor Prizes, 50/50 giveaw
 ay and more \n\n\nFor more information visit https://www.southeastwhe
 elsevents.com/events/aaca-southeastern-fall-meet
DTSTART;TZID=Pacific/Midway:20120810T000000
DTEND;TZID=Pacific/Midway:20120810T235900
CATEGORIES:car-show
LOCATION:Bristol Motor Speedway
WEBSITE:http://www.appalachianregionaaca.org/
URL:http://www.appalachianregionaaca.org/
CONTACT:423-217-1201
ORGANIZER:AACA Appalachian Region
ATTACH;FMTTYPE="image/jpeg":http://storage.ning.com/topology/rest/1.0/
 file/get/967594519?profile=original
ATTENDEE;ROLE=REQ-PARTICIPANT;PARTSTAT=ACCEPTED;RSVP=TRUE;CN="Jack Tho
 mas":https://www.southeastwheelsevents.com/profile/JackThomas
END:VEVENT
END:VCALENDAR
