BEGIN:VCALENDAR
PRODID:NingEventWidget-v1
VERSION:2.0
METHOD:PUBLISH
BEGIN:VTIMEZONE
TZID:Pacific/Midway
X-LIC-LOCATION:Pacific/Midway
BEGIN:STANDARD
TZOFFSETFROM:-1100
TZOFFSETTO:-1100
TZNAME:SST
DTSTART:19700101T000000
END:STANDARD
END:VTIMEZONE
BEGIN:VEVENT
UID:5072275:Event:1086017
DTSTAMP:20260419T231705Z
SUMMARY:AACA West - CAr & Bike Show -Carrolton, GA
DESCRIPTION:\n\nFor more information visit https://www.southeastwheels
 events.com/events/aaca-west-car-bike-show-carrolton-ga
DTSTART;TZID=Pacific/Midway:20180609T100000
DTEND;TZID=Pacific/Midway:20180609T140000
CATEGORIES:car, bike, show
LOCATION:MikeBell Chevy
WEBSITE:https://wwwdotwestgeorgiaaacadotorgdotorg.files.wordpress.com/
 2018/05/image-9.jpg?w=960
URL:https://wwwdotwestgeorgiaaacadotorgdotorg.files.wordpress.com/2018
 /05/image-9.jpg?w=960
CONTACT:334-221-8727
ORGANIZER:AAVA West GA
ATTACH;FMTTYPE="image/jpeg":http://storage.ning.com/topology/rest/1.0/
 file/get/967772692?profile=original
ATTENDEE;ROLE=REQ-PARTICIPANT;PARTSTAT=ACCEPTED;RSVP=TRUE;CN="Chuck Aa
 ron":https://www.southeastwheelsevents.com/profile/ChuckAaron886
END:VEVENT
END:VCALENDAR
