BEGIN:VCALENDAR
PRODID:NingEventWidget-v1
VERSION:2.0
METHOD:PUBLISH
BEGIN:VTIMEZONE
TZID:Pacific/Midway
X-LIC-LOCATION:Pacific/Midway
BEGIN:STANDARD
TZOFFSETFROM:-1100
TZOFFSETTO:-1100
TZNAME:SST
DTSTART:19700101T000000
END:STANDARD
END:VTIMEZONE
BEGIN:VEVENT
UID:5072275:Event:538078
DTSTAMP:20260424T234742Z
SUMMARY:AAMCO GRAND OPENING CAR & TRUCK SHOW (Lilburn Ga.)
DESCRIPTION:Registration 12:00 to 3:00 Awards at 4:00\nRegistration Fe
 e: $20.00\nAWARDS:\nBest in Show\nMayor's Pick (Of Lilburm)\nBast Of:\
 nChevy, Ford, Mopar,Truck, Orphan,\nHand Built, BOPC, Rat Rod, Work 
 in Progress\n& Import\nPlus Top 10\nNOPI Regional Award\nDoor Prizes 
  --50/50--\n$25.00 AAMCO Gift Card For Any Service To All That\nRegi
 stered\nDJ Jeff will have the Oldies\nFor More Info.\nCall Prowler Boy
  Productions 2 770-316-1040\nor our web site www.prowlerboy.com\n \n\
 nFor more information visit https://www.southeastwheelsevents.com/even
 ts/aamco-grand-opening-car-truck-show-lilburn-ga
DTSTART;TZID=Pacific/Midway:20120819T120000
DTEND;TZID=Pacific/Midway:20120819T160000
CATEGORIES:car, "&", truck, show
LOCATION:AAMCO Total Car Care (Lilburn)
WEBSITE:http://goo.gl/maps/hCTY
URL:http://goo.gl/maps/hCTY
CONTACT:770-316-1040
ORGANIZER:Prowler Boy Productions
ATTACH;FMTTYPE="image/jpeg":http://storage.ning.com/topology/rest/1.0/
 file/get/967618467?profile=original
ATTENDEE;ROLE=REQ-PARTICIPANT;PARTSTAT=ACCEPTED;RSVP=TRUE;CN=Jeff:http
 s://www.southeastwheelsevents.com/profile/Jeff
ATTENDEE;ROLE=REQ-PARTICIPANT;PARTSTAT=ACCEPTED;RSVP=TRUE;CN="Mike Swi
 derski":https://www.southeastwheelsevents.com/profile/MikeSwiderski
ATTENDEE;ROLE=REQ-PARTICIPANT;PARTSTAT=ACCEPTED;RSVP=TRUE;CN="Ed Mistr
 etta":https://www.southeastwheelsevents.com/profile/EdMistretta
ATTENDEE;ROLE=REQ-PARTICIPANT;PARTSTAT=ACCEPTED;RSVP=TRUE;CN="Darlene 
 Scott":https://www.southeastwheelsevents.com/profile/Darlene
ATTENDEE;ROLE=REQ-PARTICIPANT;PARTSTAT=ACCEPTED;RSVP=TRUE;CN="Allan & 
 Lynda Roth":https://www.southeastwheelsevents.com/profile/AllanRoth
ATTENDEE;ROLE=REQ-PARTICIPANT;PARTSTAT=ACCEPTED;RSVP=TRUE;CN="Rodney W
 allin":https://www.southeastwheelsevents.com/profile/Rodneywallin
ATTENDEE;ROLE=REQ-PARTICIPANT;PARTSTAT=ACCEPTED;RSVP=TRUE;CN="Jeff Rut
 herford":https://www.southeastwheelsevents.com/profile/JeffreyRutherfo
 rd
ATTENDEE;ROLE=REQ-PARTICIPANT;PARTSTAT=ACCEPTED;RSVP=TRUE;CN="Richard 
 Scott":https://www.southeastwheelsevents.com/profile/RichardScott
ATTENDEE;ROLE=REQ-PARTICIPANT;PARTSTAT=ACCEPTED;RSVP=TRUE;CN="Jerry Jo
 nes":https://www.southeastwheelsevents.com/profile/JerryJOnes
ATTENDEE;ROLE=REQ-PARTICIPANT;PARTSTAT=ACCEPTED;RSVP=TRUE;CN="Michael 
 Thies":https://www.southeastwheelsevents.com/profile/MichaelThies
ATTENDEE;ROLE=REQ-PARTICIPANT;PARTSTAT=TENTATIVE;RSVP=TRUE;CN="John Cu
 rtis Smith":https://www.southeastwheelsevents.com/profile/JohnCurtisSm
 ith
ATTENDEE;ROLE=REQ-PARTICIPANT;PARTSTAT=TENTATIVE;RSVP=TRUE;CN="MIchael
  Gilmore":https://www.southeastwheelsevents.com/profile/MIchaelGilmore
END:VEVENT
END:VCALENDAR
