BEGIN:VCALENDAR
PRODID:NingEventWidget-v1
VERSION:2.0
METHOD:PUBLISH
BEGIN:VTIMEZONE
TZID:Pacific/Midway
X-LIC-LOCATION:Pacific/Midway
BEGIN:STANDARD
TZOFFSETFROM:-1100
TZOFFSETTO:-1100
TZNAME:SST
DTSTART:19700101T000000
END:STANDARD
END:VTIMEZONE
BEGIN:VEVENT
UID:5072275:Event:1030854
DTSTAMP:20260423T035820Z
SUMMARY:ABATE of Upstate Area - Pickens Meeting
DESCRIPTION:ABATE of Upstate Area - Pickens Meeting will be held at Fi
 estas Mexican Restaurant, Pickens, SC. Meeting starts at 6.30pm. End t
 ime may change.\n\nFor more information visit https://www.southeastwhe
 elsevents.com/events/abate-of-upstate-area-pickens-meeting-1
DTSTART;TZID=Pacific/Midway:20170213T183000
DTEND;TZID=Pacific/Midway:20170213T200000
CATEGORIES:motorcycles, "clubs/shows/cruises"
LOCATION:Fiestas Mexican Restaurant
WEBSITE:http://abatesc.com/site/chapters-meetings
URL:http://abatesc.com/site/chapters-meetings
CONTACT:
ORGANIZER:A.B.A.T.E. of South Carolina
ATTACH;FMTTYPE="image/jpeg":
ATTENDEE;ROLE=REQ-PARTICIPANT;PARTSTAT=ACCEPTED;RSVP=TRUE;CN="Christop
 her Gosney":https://www.southeastwheelsevents.com/profile/ChristopherG
 osney
END:VEVENT
END:VCALENDAR
