BEGIN:VCALENDAR
PRODID:NingEventWidget-v1
VERSION:2.0
METHOD:PUBLISH
BEGIN:VTIMEZONE
TZID:Pacific/Midway
X-LIC-LOCATION:Pacific/Midway
BEGIN:STANDARD
TZOFFSETFROM:-1100
TZOFFSETTO:-1100
TZNAME:SST
DTSTART:19700101T000000
END:STANDARD
END:VTIMEZONE
BEGIN:VEVENT
UID:5072275:Event:1179905
DTSTAMP:20260419T041603Z
SUMMARY:ABCCM (Asheville Buncombe Commit, Christian Ministry) Patriots
  and Legends Car Show - Asheville, NC
DESCRIPTION:ABCCM (Asheville Buncombe Commit, Christian Ministry) Patr
 iots and Legends Car Show benefitting Veteran's, Restoration Quarters 
 Steadfast House at the Asheville Outlets\n\nFor more information visit
  https://www.southeastwheelsevents.com/events/abccm-asheville-buncombe
 -commit-christian-ministry-patriots-and
DTSTART;TZID=Pacific/Midway:20191109T090000
DTEND;TZID=Pacific/Midway:20191109T150000
CATEGORIES:car, show, cruise-in
LOCATION:Asheville Outlets,
WEBSITE:
URL:
CONTACT:(828) 398-6911
ORGANIZER:Brad Owen
ATTACH;FMTTYPE="image/jpeg":https://storage.ning.com/topology/rest/1.0
 /file/get/3700507056?profile=original
ATTENDEE;ROLE=REQ-PARTICIPANT;PARTSTAT=ACCEPTED;RSVP=TRUE;CN="Anthony 
 Hopkins":https://www.southeastwheelsevents.com/profile/AnthonyHopkins
END:VEVENT
END:VCALENDAR
