BEGIN:VCALENDAR
PRODID:NingEventWidget-v1
VERSION:2.0
METHOD:PUBLISH
BEGIN:VTIMEZONE
TZID:Pacific/Midway
X-LIC-LOCATION:Pacific/Midway
BEGIN:STANDARD
TZOFFSETFROM:-1100
TZOFFSETTO:-1100
TZNAME:SST
DTSTART:19700101T000000
END:STANDARD
END:VTIMEZONE
BEGIN:VEVENT
UID:5072275:Event:1084107
DTSTAMP:20260425T071137Z
SUMMARY:Accelerating Hope Car Show -Greenville, SC
DESCRIPTION:We will have judges, trophies, silent auction, dj, and bbq
 . \r\nCobtacy Event Coordinator, Tatum Roper @ 864.270.6033 or info@j
 oyfulornamanetfund.org\r\nPre-register on our website www.joyfulorname
 ntfund.org $20 or $25 day of show. \n\nFor more information visit htt
 ps://www.southeastwheelsevents.com/events/accelerating-hope-car-show-1
DTSTART;TZID=Pacific/Midway:20180818T100000
DTEND;TZID=Pacific/Midway:20180818T130000
CATEGORIES:car, show
LOCATION:Rocky Creek
WEBSITE:http://www.joyfulornamentfund.org
URL:http://www.joyfulornamentfund.org
CONTACT:864-270-6033
ORGANIZER:Tatum Roper
ATTACH;FMTTYPE="image/jpeg":http://storage.ning.com/topology/rest/1.0/
 file/get/967766142?profile=original
ATTENDEE;ROLE=REQ-PARTICIPANT;PARTSTAT=ACCEPTED;RSVP=TRUE;CN="Kyra Lew
 is":https://www.southeastwheelsevents.com/profile/KyraLewis
END:VEVENT
END:VCALENDAR
