BEGIN:VCALENDAR
PRODID:NingEventWidget-v1
VERSION:2.0
METHOD:PUBLISH
BEGIN:VTIMEZONE
TZID:Pacific/Midway
X-LIC-LOCATION:Pacific/Midway
BEGIN:STANDARD
TZOFFSETFROM:-1100
TZOFFSETTO:-1100
TZNAME:SST
DTSTART:19700101T000000
END:STANDARD
END:VTIMEZONE
BEGIN:VEVENT
UID:5072275:Event:1084354
DTSTAMP:20260425T070343Z
SUMMARY:Accelerating Hope Car Show
DESCRIPTION:We will have judges, trophies, silent auction, di, and bbq
 . \nCobtacy Event Coordinator, Tatum Roper @ 864.270.6033 or info@joy
 fulornamanetfund.org\nPre-register on our website www.joyfulornamentfu
 nd.org $20 or $25 day of show. \n\nFor more information visit https:/
 /www.southeastwheelsevents.com/events/accelerating-hope-car-show
DTSTART;TZID=Pacific/Midway:20180818T100000
DTEND;TZID=Pacific/Midway:20180818T130000
CATEGORIES:car, show
LOCATION:Rocky Creek
WEBSITE:http://www.joyfulornamentfund.org
URL:http://www.joyfulornamentfund.org
CONTACT:864-270-6033
ORGANIZER:Tatum Roper
ATTACH;FMTTYPE="image/jpeg":
ATTENDEE;ROLE=REQ-PARTICIPANT;PARTSTAT=ACCEPTED;RSVP=TRUE;CN="Kyra Lew
 is":https://www.southeastwheelsevents.com/profile/KyraLewis
END:VEVENT
END:VCALENDAR
