BEGIN:VCALENDAR
PRODID:NingEventWidget-v1
VERSION:2.0
METHOD:PUBLISH
BEGIN:VTIMEZONE
TZID:Pacific/Midway
X-LIC-LOCATION:Pacific/Midway
BEGIN:STANDARD
TZOFFSETFROM:-1100
TZOFFSETTO:-1100
TZNAME:SST
DTSTART:19700101T000000
END:STANDARD
END:VTIMEZONE
BEGIN:VEVENT
UID:5072275:Event:911959
DTSTAMP:20260425T041041Z
SUMMARY:Accelerating Hope Classic and Modern Car Show Greenville, SC
DESCRIPTION:A car show benefiting Joyful Ornament Cancer Fund.  A fam
 ily fun event with car awards, silent auction, music and food.\n\nFor 
 more information visit https://www.southeastwheelsevents.com/events/ac
 celerating-hope-classic-and-modern-car-show-greenville-sc
DTSTART;TZID=Pacific/Midway:20150829T160000
DTEND;TZID=Pacific/Midway:20150829T190000
CATEGORIES:car, show
LOCATION:Rocky Creek
WEBSITE:http://www.joyfulornamentfund.org
URL:http://www.joyfulornamentfund.org
CONTACT:864-313-8358
ORGANIZER;CN="Kristi Giddens":https://www.southeastwheelsevents.com/pr
 ofile/JodiPanagakos
ATTACH;FMTTYPE="image/jpeg":http://storage.ning.com/topology/rest/1.0/
 file/get/967696058?profile=original
ATTENDEE;ROLE=REQ-PARTICIPANT;PARTSTAT=ACCEPTED;RSVP=TRUE;CN="Kristi G
 iddens":https://www.southeastwheelsevents.com/profile/JodiPanagakos
END:VEVENT
END:VCALENDAR
