BEGIN:VCALENDAR
PRODID:NingEventWidget-v1
VERSION:2.0
METHOD:PUBLISH
BEGIN:VTIMEZONE
TZID:Pacific/Midway
X-LIC-LOCATION:Pacific/Midway
BEGIN:STANDARD
TZOFFSETFROM:-1100
TZOFFSETTO:-1100
TZNAME:SST
DTSTART:19700101T000000
END:STANDARD
END:VTIMEZONE
BEGIN:VEVENT
UID:5072275:Event:1089374
DTSTAMP:20260422T214311Z
SUMMARY:Acworth Car, Truck and Bike Show - American Legion Post 304
DESCRIPTION:American Legion Post 304 in Acworth, GA is holding a Car, 
 Bike and Truck show on August 18. LOTS of giveaways and big prizes inc
 luding grills, gift cards from various restaurants and much more.\n\nS
 IGN UP EARLY and save 20% off registration fee. Register your car befo
 re August 10 and you'll get $5 off the registration fee. Additionally,
  the FIRST 40 registrations get a FREE Chick-Fil-A sandwich card (wort
 h up to $4).\n\nFor more information visit https://www.southeastwheels
 events.com/events/acworth-car-truck-and-bike-show-american-legion-post
 -304-1
DTSTART;TZID=Pacific/Midway:20180818T110000
DTEND;TZID=Pacific/Midway:20180818T150000
CATEGORIES:fundraiser
LOCATION:Acworth American Legion Post 304
WEBSITE:http://www.post204.org
URL:http://www.post204.org
CONTACT:615-948-7425
ORGANIZER;CN="Dan Harr":https://www.southeastwheelsevents.com/profile/
 DanHarr
ATTACH;FMTTYPE="image/jpeg":http://storage.ning.com/topology/rest/1.0/
 file/get/967779551?profile=original
ATTENDEE;ROLE=REQ-PARTICIPANT;PARTSTAT=ACCEPTED;RSVP=TRUE;CN="Chuck Aa
 ron":https://www.southeastwheelsevents.com/profile/ChuckAaron886
ATTENDEE;ROLE=REQ-PARTICIPANT;PARTSTAT=ACCEPTED;RSVP=TRUE;CN="Dan Harr
 ":https://www.southeastwheelsevents.com/profile/DanHarr
END:VEVENT
END:VCALENDAR
