BEGIN:VCALENDAR
PRODID:NingEventWidget-v1
VERSION:2.0
METHOD:PUBLISH
BEGIN:VTIMEZONE
TZID:Pacific/Midway
X-LIC-LOCATION:Pacific/Midway
BEGIN:STANDARD
TZOFFSETFROM:-1100
TZOFFSETTO:-1100
TZNAME:SST
DTSTART:19700101T000000
END:STANDARD
END:VTIMEZONE
BEGIN:VEVENT
UID:5072275:Event:487864
DTSTAMP:20260423T084450Z
SUMMARY:Aiken Horsepower's 9th Annual Spring Fling -Aiken, SC
DESCRIPTION:\nThis is our 9th Annual Spring Fling, we are really going
  to have a great time.  Along with our big kids car show we also have
  a Kiddie Kar show for the kids, we also will be having a hot wheels r
 ace, with a trophy going to the winner.  We will have a bean bag toss
  game, vendors selling things, we have some awesome silent auction ite
 ms, door prizes.  We are raffling off some handmade windchimes.  We 
 will be cooking hamburgers and hot dogs.  We will be selling 50/50 ti
 ckets.  Pre-registration is $15.00 or $20.00 at the show.  Hope ever
 yone can make it!!\n\nFor more information visit https://www.southeast
 wheelsevents.com/events/aiken-horsepower-s-9th-annual-spring-fling
DTSTART;TZID=Pacific/Midway:20120407T090000
DTEND;TZID=Pacific/Midway:20120407T153000
CATEGORIES:fundraiser
LOCATION:In front of Sears at the Aiken Mall
WEBSITE:http://www.aikenhorsepower.com
URL:http://www.aikenhorsepower.com
CONTACT:803-270-3505
ORGANIZER;CN="Vickie Reynolds":https://www.southeastwheelsevents.com/p
 rofile/VickieReynolds
ATTACH;FMTTYPE="image/jpeg":http://storage.ning.com/topology/rest/1.0/
 file/get/967610140?profile=original
ATTENDEE;ROLE=REQ-PARTICIPANT;PARTSTAT=ACCEPTED;RSVP=TRUE;CN="Al Willi
 ams":https://www.southeastwheelsevents.com/profile/AlWilliams
ATTENDEE;ROLE=REQ-PARTICIPANT;PARTSTAT=ACCEPTED;RSVP=TRUE;CN="Vickie R
 eynolds":https://www.southeastwheelsevents.com/profile/VickieReynolds
END:VEVENT
END:VCALENDAR
