BEGIN:VCALENDAR
PRODID:NingEventWidget-v1
VERSION:2.0
METHOD:PUBLISH
BEGIN:VTIMEZONE
TZID:Pacific/Midway
X-LIC-LOCATION:Pacific/Midway
BEGIN:STANDARD
TZOFFSETFROM:-1100
TZOFFSETTO:-1100
TZNAME:SST
DTSTART:19700101T000000
END:STANDARD
END:VTIMEZONE
BEGIN:VEVENT
UID:5072275:Event:1028642
DTSTAMP:20260424T080506Z
SUMMARY:Air-Cooled Power Train- Winter Service Seminar
DESCRIPTION:Air-Cooled Power Train - Winter Service Seminar at Harley-
 Davidson of Panama City Beach located at 14700 Panama City Beach Pkwy,
  Panama City Beach, FL. Air-Cooled Power Train Semiar taught by own Sc
 ott Korol. Admission - Free.\n\nFor more information visit https://www
 .southeastwheelsevents.com/events/air-cooled-power-train-winter-servic
 e-seminar-1
DTSTART;TZID=Pacific/Midway:20170112T180000
DTEND;TZID=Pacific/Midway:20170112T190000
CATEGORIES:motorcycles, "clubs/shows/cruises"
LOCATION:Harley-Davidson of Panama City Beach
WEBSITE:http://www.pcbharley.com/whats-going-on--xcalendar
URL:http://www.pcbharley.com/whats-going-on--xcalendar
CONTACT:
ORGANIZER:Harley-Davidson of Panama City Beach
ATTACH;FMTTYPE="image/jpeg":http://storage.ning.com/topology/rest/1.0/
 file/get/967730526?profile=original
ATTENDEE;ROLE=REQ-PARTICIPANT;PARTSTAT=ACCEPTED;RSVP=TRUE;CN="Chris go
 sney":https://www.southeastwheelsevents.com/profile/Chrisgosney
END:VEVENT
END:VCALENDAR
