BEGIN:VCALENDAR
PRODID:NingEventWidget-v1
VERSION:2.0
METHOD:PUBLISH
BEGIN:VTIMEZONE
TZID:Pacific/Midway
X-LIC-LOCATION:Pacific/Midway
BEGIN:STANDARD
TZOFFSETFROM:-1100
TZOFFSETTO:-1100
TZNAME:SST
DTSTART:19700101T000000
END:STANDARD
END:VTIMEZONE
BEGIN:VEVENT
UID:5072275:Event:648976
DTSTAMP:20260424T003523Z
SUMMARY:AL Jubilee Auto Show, Decatur, AL
DESCRIPTION:Show in conjunction with the hot air balloon festival.  H
 eld at Point Mallard water park.  Lots of things for the family to do
 .  Usually about 300 cars and swap meet vendors.  Also about 60 hot 
 air balloons.  Balloons leave at 6am and 6pm.\n\nFor more information
  visit https://www.southeastwheelsevents.com/events/al-jubilee-auto-sh
 ow-decatur-al
DTSTART;TZID=Pacific/Midway:20130525T000000
DTEND;TZID=Pacific/Midway:20130525T235900
CATEGORIES:holiday, celebration
LOCATION:Point Mallard Park in Decatur, AL
WEBSITE:
URL:
CONTACT:256 350 3383 or 256 303 4762
ORGANIZER;CN="Charles Adams":https://www.southeastwheelsevents.com/pro
 file/CharlesAdams
ATTACH;FMTTYPE="image/jpeg":
ATTENDEE;ROLE=REQ-PARTICIPANT;PARTSTAT=ACCEPTED;RSVP=TRUE;CN="Charles 
 Adams":https://www.southeastwheelsevents.com/profile/CharlesAdams
END:VEVENT
END:VCALENDAR
