BEGIN:VCALENDAR
PRODID:NingEventWidget-v1
VERSION:2.0
METHOD:PUBLISH
BEGIN:VTIMEZONE
TZID:Pacific/Midway
X-LIC-LOCATION:Pacific/Midway
BEGIN:STANDARD
TZOFFSETFROM:-1100
TZOFFSETTO:-1100
TZNAME:SST
DTSTART:19700101T000000
END:STANDARD
END:VTIMEZONE
BEGIN:VEVENT
UID:5072275:Event:955705
DTSTAMP:20260419T051841Z
SUMMARY:Alabama ArenaCross 2016 -Tuscumbia, AL
DESCRIPTION:Alabama ArenaCross 2016\n\nThe Alabama ArenaCross 2016 wi
 ll be held at the Longhorn R Ranch Arena in Tuscumbia, Alabama on Ja
 nuary 16th, 2016.  Location: -Longhorn R Ranch Arena in Tuscumbia, Ala
 bama (2125 Three Mile Lane, Tuscumbia, Alabama)  Race Number 11. For m
 ore details about this event, please contact Corner MX Park at the con
 tact information listed below.  Please Contact For More Information: -
 (205) 647-6949\n\nFor more information visit https://www.southeastwhee
 lsevents.com/events/alabama-arenacross-2016-tuscumbia-al
DTSTART;TZID=Pacific/Midway:20160116T080000
DTEND;TZID=Pacific/Midway:20160116T160000
CATEGORIES:arena, motorcycle, racing
LOCATION:Longhorn R Ranch Arena
WEBSITE:http://www.cornermxpark.com/arena-cross/ax-flyer/
URL:http://www.cornermxpark.com/arena-cross/ax-flyer/
CONTACT:(205) 647-6949
ORGANIZER:Alabama ArenaCross
ATTACH;FMTTYPE="image/jpeg":http://storage.ning.com/topology/rest/1.0/
 file/get/967699792?profile=original
ATTENDEE;ROLE=REQ-PARTICIPANT;PARTSTAT=ACCEPTED;RSVP=TRUE;CN="Chuck Aa
 ron":https://www.southeastwheelsevents.com/profile/ChuckAaron
END:VEVENT
END:VCALENDAR
