BEGIN:VCALENDAR
PRODID:NingEventWidget-v1
VERSION:2.0
METHOD:PUBLISH
BEGIN:VTIMEZONE
TZID:Pacific/Midway
X-LIC-LOCATION:Pacific/Midway
BEGIN:STANDARD
TZOFFSETFROM:-1100
TZOFFSETTO:-1100
TZNAME:SST
DTSTART:19700101T000000
END:STANDARD
END:VTIMEZONE
BEGIN:VEVENT
UID:5072275:Event:117879
DTSTAMP:20260420T072930Z
SUMMARY:Alabama State HOG Rally -Huntsville, AL
DESCRIPTION:EVENT DATES: May 19 - 21, 2011\nEVENT LOCATION: Huntsville
 , Alabama\nREGISTRATION\nDEADLINE: Mar 31, 2011\nCONTACT: For more inf
 ormation, please call 205-426-2952\n\nFor more information visit https
 ://www.southeastwheelsevents.com/events/alabama-state-hog-rally
DTSTART;TZID=Pacific/Midway:20110519T000000
DTEND;TZID=Pacific/Midway:20110521T235900
CATEGORIES:cycle-rally
LOCATION:Hunstville
WEBSITE:http://205-426-2952
URL:http://205-426-2952
CONTACT:
ORGANIZER:AL HOG RALLY
ATTACH;FMTTYPE="image/jpeg":
ATTENDEE;ROLE=REQ-PARTICIPANT;PARTSTAT=ACCEPTED;RSVP=TRUE;CN=Leroy:htt
 ps://www.southeastwheelsevents.com/profile/Leroy
END:VEVENT
END:VCALENDAR
