BEGIN:VCALENDAR
PRODID:NingEventWidget-v1
VERSION:2.0
METHOD:PUBLISH
BEGIN:VTIMEZONE
TZID:Pacific/Midway
X-LIC-LOCATION:Pacific/Midway
BEGIN:STANDARD
TZOFFSETFROM:-1100
TZOFFSETTO:-1100
TZNAME:SST
DTSTART:19700101T000000
END:STANDARD
END:VTIMEZONE
BEGIN:VEVENT
UID:5072275:Event:1235368
DTSTAMP:20260422T203359Z
SUMMARY:Alberta Banks Car Show -Flowery Branch, GA
DESCRIPTION:\n\nFor more information visit https://www.southeastwheels
 events.com/events/alberta-banks-car-show-flowery-branch-ga
DTSTART;TZID=Pacific/Midway:20220612T140000
DTEND;TZID=Pacific/Midway:20220612T180000
CATEGORIES:car, show, benefit
LOCATION:5575 Jim Crow Road
WEBSITE:
URL:
CONTACT:770-712-0015
ORGANIZER:
ATTACH;FMTTYPE="image/jpeg":https://storage.ning.com/topology/rest/1.0
 /file/get/10537885257?profile=original
ATTENDEE;ROLE=REQ-PARTICIPANT;PARTSTAT=ACCEPTED;RSVP=TRUE;CN="Chuck Aa
 ron":https://www.southeastwheelsevents.com/profile/ChuckAaron886
END:VEVENT
END:VCALENDAR
