BEGIN:VCALENDAR
PRODID:NingEventWidget-v1
VERSION:2.0
METHOD:PUBLISH
BEGIN:VTIMEZONE
TZID:Pacific/Midway
X-LIC-LOCATION:Pacific/Midway
BEGIN:STANDARD
TZOFFSETFROM:-1100
TZOFFSETTO:-1100
TZNAME:SST
DTSTART:19700101T000000
END:STANDARD
END:VTIMEZONE
BEGIN:VEVENT
UID:5072275:Event:106755
DTSTAMP:20260420T103017Z
SUMMARY:Clay Couinty Car Show/Swap Meet -Lineville, AL
DESCRIPTION:37 Years!!!\r\nCar show- swap meet. always the 1st Weekend
  in November.  We have everything from rat rods to Rolls Royce. no ju
 dging-we do the famous money tree. over 2500$ plus prizes put in envel
 opes on the money tree ,everyone gets registration # and we draw #s yo
 u get to pick the envelope this puts everyone on an equal playing fiel
 d no matter if your car is finished or not. we also have one of the la
 rgest swap meets in Al.good food, good times --arts and crafts for the
  ladies,will be one of the most fun shows you attend all year. the pas
 t 25 years we have raised almost 300,000$ for the Shrine hospital.\n\n
 For more information visit https://www.southeastwheelsevents.com/event
 s/alcazar-car-showswap-meet
DTSTART;TZID=Pacific/Midway:20241102T000000
DTEND;TZID=Pacific/Midway:20241103T235900
CATEGORIES:fundraiser, car-show
LOCATION:Lineville City Park
WEBSITE:https://www.facebook.com/ClayCountyCarShow
URL:https://www.facebook.com/ClayCountyCarShow
CONTACT:256-396-2058
ORGANIZER;CN="Bob Steele":https://www.southeastwheelsevents.com/profil
 e/BobSteele
ATTACH;FMTTYPE="image/jpeg":http://storage.ning.com/topology/rest/1.0/
 file/get/967584333?profile=original
ATTENDEE;ROLE=REQ-PARTICIPANT;PARTSTAT=ACCEPTED;RSVP=TRUE;CN="Bob Stee
 le":https://www.southeastwheelsevents.com/profile/BobSteele
ATTENDEE;ROLE=REQ-PARTICIPANT;PARTSTAT=ACCEPTED;RSVP=TRUE;CN="mark cal
 lahan":https://www.southeastwheelsevents.com/profile/markcallahan
ATTENDEE;ROLE=REQ-PARTICIPANT;PARTSTAT=ACCEPTED;RSVP=TRUE;CN="Dude Wai
 ts":https://www.southeastwheelsevents.com/profile/DudeWaits
ATTENDEE;ROLE=REQ-PARTICIPANT;PARTSTAT=ACCEPTED;RSVP=TRUE;CN="Chuck Aa
 ron":https://www.southeastwheelsevents.com/profile/ChuckAaron886
END:VEVENT
END:VCALENDAR
