BEGIN:VCALENDAR
PRODID:NingEventWidget-v1
VERSION:2.0
METHOD:PUBLISH
BEGIN:VTIMEZONE
TZID:Pacific/Midway
X-LIC-LOCATION:Pacific/Midway
BEGIN:STANDARD
TZOFFSETFROM:-1100
TZOFFSETTO:-1100
TZNAME:SST
DTSTART:19700101T000000
END:STANDARD
END:VTIMEZONE
BEGIN:VEVENT
UID:5072275:Event:1177109
DTSTAMP:20260419T050305Z
SUMMARY:ALEE SHRINERS MOBILE UNIT CLASSICS
DESCRIPTION:1\n\nFor more information visit https://www.southeastwheel
 sevents.com/events/alee-shriners-mobile-unit-classics
DTSTART;TZID=Pacific/Midway:20191109T090000
DTEND;TZID=Pacific/Midway:20191109T150000
CATEGORIES:car, show
LOCATION:Alee Temple Shrine
WEBSITE:
URL:
CONTACT:
ORGANIZER:Alee Temple Shrine
ATTACH;FMTTYPE="image/jpeg":https://storage.ning.com/topology/rest/1.0
 /file/get/3548381146?profile=original
ATTENDEE;ROLE=REQ-PARTICIPANT;PARTSTAT=TENTATIVE;RSVP=TRUE;CN="Jeffrey
  Rutherford":https://www.southeastwheelsevents.com/profile/JeffreyRuth
 erford866
END:VEVENT
END:VCALENDAR
