BEGIN:VCALENDAR
PRODID:NingEventWidget-v1
VERSION:2.0
METHOD:PUBLISH
BEGIN:VTIMEZONE
TZID:Pacific/Midway
X-LIC-LOCATION:Pacific/Midway
BEGIN:STANDARD
TZOFFSETFROM:-1100
TZOFFSETTO:-1100
TZNAME:SST
DTSTART:19700101T000000
END:STANDARD
END:VTIMEZONE
BEGIN:VEVENT
UID:5072275:Event:996906
DTSTAMP:20260424T052030Z
SUMMARY:All American Car Cruise in Orlando, FL.
DESCRIPTION:We invite ALL American Cars to the Amway Center to cheer o
 n the Orlando Predators at their last home game of the season: Orlando
  Predators vs. Philadelphia Soul! Net proceeds will be benefiting St. 
 Jude Children's Research Hospital. And there will be awards for: Best 
 Overall Car, Daily Driver, Best Paint Job, and Most Original. Please 
 arrive to the Amway Center at 4 pm.Doors open at 6:30pmGames usually e
 nd around 10:30pm but we can't let any of the cars move until the foot
  traffic is clear for everyone's safety. So instead of leaving the bui
 lding immediately, we invite you to join our players and dancers on th
 e field after the game for autographs and photos. We'll continue to u
 pdate you all as some more logistics fall into place. If you have any 
 immediate questions, please call Joshua at 407.355.1501\n\nFor more in
 formation visit https://www.southeastwheelsevents.com/events/all-ameri
 can-car-cruise-in-orlando-fl-1
DTSTART;TZID=Pacific/Midway:20160730T160000
DTEND;TZID=Pacific/Midway:20160730T230000
CATEGORIES:fundraiser
LOCATION:Amway Center
WEBSITE:http://www.amwaycenter.com/
URL:http://www.amwaycenter.com/
CONTACT:407.355.1501
ORGANIZER;CN="Orlando Predators":https://www.southeastwheelsevents.com
 /profile/OrlandoPredators
ATTACH;FMTTYPE="image/jpeg":http://storage.ning.com/topology/rest/1.0/
 file/get/2631743502?profile=original
ATTENDEE;ROLE=REQ-PARTICIPANT;PARTSTAT=ACCEPTED;RSVP=TRUE;CN="Orlando 
 Predators":https://www.southeastwheelsevents.com/profile/OrlandoPredat
 ors
END:VEVENT
END:VCALENDAR
