BEGIN:VCALENDAR
PRODID:NingEventWidget-v1
VERSION:2.0
METHOD:PUBLISH
BEGIN:VTIMEZONE
TZID:Pacific/Midway
X-LIC-LOCATION:Pacific/Midway
BEGIN:STANDARD
TZOFFSETFROM:-1100
TZOFFSETTO:-1100
TZNAME:SST
DTSTART:19700101T000000
END:STANDARD
END:VTIMEZONE
BEGIN:VEVENT
UID:5072275:Event:1225933
DTSTAMP:20260423T143707Z
SUMMARY:All Deuce Run - Cornelius, NC
DESCRIPTION:Only 1932 Fords! Leaving from the Target to drive the Blue
  Ridge!\r\nThat's right, guys, the 2021 ALL DEUCE RUN is going to happ
 en, the date is finally set for the 20th All Deuce Run to Blowing Rock
 . It will be on Saturday, June 26th.Photo courtesy - Tom HassellSame a
 s in past years, we will head out from the Target Shopping Center in C
 ornelius, located on the NE corner of I-77 & Hwy 73 (Exit 25 off I-77)
 , at 10:00 sharp. We’ll make a stop at the overlook on the Blue Ridg
 e Parkway to stretch our legs & check out each others’ deuces. The p
 anoramic view is an incredible backdrop for photos too!Next we're on t
 o Blowing Rock for lunch. We'll be eating at Foggy Rock Eatery & Pub.
  They have asked that we arrive after 2 PM and this year they'll nee
 d us to give them a head count for those planning to attend. This is v
 ery important, so please send me a conversation and let me know names 
 & numbers as soon as you can.The following pertains to those of you wh
 o join us for the dinner on Friday night:Bill has spoken with the owne
 rs of Lancaster's BBQ and they said they will try to accommodate us.
  The pandemic has caused wait staff shortages everywhere and Lancaster
 's is no exception; a rough head count will certainly help them better
  serve our party, so do let me know if you plan to eat dinner with us 
 on Friday night too.If we are going to make it happen this year, I nee
 d to know who will be in attendance on both days as soon as possible.\
 r\nhttps://www.jalopyjournal.com/forum/threads/the-20th-all-deuce-run.
 1231757/\n\nFor more information visit https://www.southeastwheelseven
 ts.com/events/all-deuce-run-cornelius-nc
DTSTART;TZID=Pacific/Midway:20210626T100000
DTEND;TZID=Pacific/Midway:20210626T170000
CATEGORIES:car, show, cruise-in, antique, "cars.", vintage, classic, c
 ars, cruise, in
LOCATION:Traget
WEBSITE:
URL:
CONTACT:704-788-1856
ORGANIZER:
ATTACH;FMTTYPE="image/jpeg":https://storage.ning.com/topology/rest/1.0
 /file/get/3998884559?profile=original
ATTENDEE;ROLE=REQ-PARTICIPANT;PARTSTAT=ACCEPTED;RSVP=TRUE;CN="Michael 
 Thies":https://www.southeastwheelsevents.com/profile/MichaelThies
END:VEVENT
END:VCALENDAR
