BEGIN:VCALENDAR
PRODID:NingEventWidget-v1
VERSION:2.0
METHOD:PUBLISH
BEGIN:VTIMEZONE
TZID:Pacific/Midway
X-LIC-LOCATION:Pacific/Midway
BEGIN:STANDARD
TZOFFSETFROM:-1100
TZOFFSETTO:-1100
TZNAME:SST
DTSTART:19700101T000000
END:STANDARD
END:VTIMEZONE
BEGIN:VEVENT
UID:5072275:Event:624541
DTSTAMP:20260425T004703Z
SUMMARY:All Ford Show - McDonough, Ga
DESCRIPTION:\n\nFor more information visit https://www.southeastwheels
 events.com/events/all-ford-show
DTSTART;TZID=Pacific/Midway:20130727T100000
DTEND;TZID=Pacific/Midway:20130727T160000
CATEGORIES:carshow
LOCATION:Summit Racing
WEBSITE:http://fordowners.org
URL:http://fordowners.org
CONTACT:770-533-2747
ORGANIZER:Walt Simonds
ATTACH;FMTTYPE="image/jpeg":http://storage.ning.com/topology/rest/1.0/
 file/get/967635060?profile=original
ATTENDEE;ROLE=REQ-PARTICIPANT;PARTSTAT=ACCEPTED;RSVP=TRUE;CN="Jim McFa
 rland":https://www.southeastwheelsevents.com/profile/JimMcFarland500
ATTENDEE;ROLE=REQ-PARTICIPANT;PARTSTAT=ACCEPTED;RSVP=TRUE;CN="Bill mus
 arra":https://www.southeastwheelsevents.com/profile/billmusarra
ATTENDEE;ROLE=REQ-PARTICIPANT;PARTSTAT=ACCEPTED;RSVP=TRUE;CN="Walter S
 imonds":https://www.southeastwheelsevents.com/profile/WalterSimonds
END:VEVENT
END:VCALENDAR
