BEGIN:VCALENDAR
PRODID:NingEventWidget-v1
VERSION:2.0
METHOD:PUBLISH
BEGIN:VTIMEZONE
TZID:Pacific/Midway
X-LIC-LOCATION:Pacific/Midway
BEGIN:STANDARD
TZOFFSETFROM:-1100
TZOFFSETTO:-1100
TZNAME:SST
DTSTART:19700101T000000
END:STANDARD
END:VTIMEZONE
BEGIN:VEVENT
UID:5072275:Event:756559
DTSTAMP:20260420T141033Z
SUMMARY:All Generation Camaro & Firebird Show - McDonough, GA
DESCRIPTION:Inaugual All Generation Camaro & Firebird Show.  \nShow F
 lyer\nHosted by AllGen Camaros and sponsored by Summit Racing of McDon
 ough, GA.  \nShow is open to Camaros and Firebirds only.  \nEntry fe
 e is $10 and proceeds benefit Juvenile Diabetes Research Foundation (w
 ww.jdrf.org).\nTop 20, 1st & 2nd Place for all generations, plus Best 
 Camaro and Best Firebird. \nFood, music, 50/50, door prizes, and more
 .\n\n\nFor more information visit https://www.southeastwheelsevents.co
 m/events/all-generation-camaro-firebird-show-mcdonough-ga
DTSTART;TZID=Pacific/Midway:20140628T090000
DTEND;TZID=Pacific/Midway:20140628T150000
CATEGORIES:car, show, -, fundraiser, for, juvinile, diabetes, research
 , foundation
LOCATION:Summit Racing Equpiment, McDonough, GA
WEBSITE:http://allgencamaros.com/Summit.html
URL:http://allgencamaros.com/Summit.html
CONTACT:404-295-5643 - Rod Harris
ORGANIZER:AllGen Camaros (www,allgencamaros.com)
ATTACH;FMTTYPE="image/jpeg":http://storage.ning.com/topology/rest/1.0/
 file/get/967656558?profile=original
ATTENDEE;ROLE=REQ-PARTICIPANT;PARTSTAT=ACCEPTED;RSVP=TRUE;CN="Terry Ha
 wkins":https://www.southeastwheelsevents.com/profile/TerryHawkins
ATTENDEE;ROLE=REQ-PARTICIPANT;PARTSTAT=ACCEPTED;RSVP=TRUE;CN="Jerry Jo
 nes":https://www.southeastwheelsevents.com/profile/JerryJOnes
END:VEVENT
END:VCALENDAR
