BEGIN:VCALENDAR
PRODID:NingEventWidget-v1
VERSION:2.0
METHOD:PUBLISH
BEGIN:VTIMEZONE
TZID:Pacific/Midway
X-LIC-LOCATION:Pacific/Midway
BEGIN:STANDARD
TZOFFSETFROM:-1100
TZOFFSETTO:-1100
TZNAME:SST
DTSTART:19700101T000000
END:STANDARD
END:VTIMEZONE
BEGIN:VEVENT
UID:5072275:Event:819286
DTSTAMP:20260423T145539Z
SUMMARY:All-GM Show, Lawrenceville, GA, October 11, 2014
DESCRIPTION:\n\nFor more information visit https://www.southeastwheels
 events.com/events/all-gm-show-lawrenceville-ga-october-11-2014
DTSTART;TZID=Pacific/Midway:20141011T080000
DTEND;TZID=Pacific/Midway:20141011T170000
CATEGORIES:car, show
LOCATION:Nash Chevrolet
WEBSITE:
URL:
CONTACT:770-905-1638 or 770-598-4077
ORGANIZER:Peach State Chevy Club
ATTACH;FMTTYPE="image/jpeg":http://storage.ning.com/topology/rest/1.0/
 file/get/967667739?profile=original
ATTENDEE;ROLE=REQ-PARTICIPANT;PARTSTAT=ACCEPTED;RSVP=TRUE;CN="Bruce Jo
 nes":https://www.southeastwheelsevents.com/profile/BruceJones
ATTENDEE;ROLE=REQ-PARTICIPANT;PARTSTAT=TENTATIVE;RSVP=TRUE;CN="Fred Ke
 lly":https://www.southeastwheelsevents.com/profile/FredKelly
END:VEVENT
END:VCALENDAR
