BEGIN:VCALENDAR
PRODID:NingEventWidget-v1
VERSION:2.0
METHOD:PUBLISH
BEGIN:VTIMEZONE
TZID:Pacific/Midway
X-LIC-LOCATION:Pacific/Midway
BEGIN:STANDARD
TZOFFSETFROM:-1100
TZOFFSETTO:-1100
TZNAME:SST
DTSTART:19700101T000000
END:STANDARD
END:VTIMEZONE
BEGIN:VEVENT
UID:5072275:Event:1032256
DTSTAMP:20260421T015309Z
SUMMARY:All Team Bash -Lawrenceville, GA
DESCRIPTION:The All Team Bash originated in Houston, and has since tra
 veled to multiple cities, and even into Arkansas! We are the largest e
 vent in Houston and cannot wait to visit new states and meet new teams
 ! Our focus is on CLUBS/TEAMS we want to promote team growth internall
 y, and also friendship between teams. Our events are a lot like tail g
 ating, everybody can BBQ. We also do team games such as Dodge Ball, Tu
 g of war and car limbo.  The All Team Bash started 8 years ago in Hous
 ton, Tx bringing Car clubs together in a tailgating style atmosphere! 
  Bring your bbq pits, and Ice chests! (no glass please) And bring out 
 your pets and kids!  Join us for Team Games such as Tug of War and Dod
 ge Ball!  Come Represent your team At the largest Car Club gathering i
 n the United States!  Bbq with your friends and family!  As always kid
 s get in free! Only $15.00 a person, no extra charge to bring your car
  or bike in, as many cars or bikes as you can bring!!   All car clubs,
  truck clubs, bike clubs, Imports/domestics are invited!!!!!!!!!!!!!!!
 !!\n\nFor more information visit https://www.southeastwheelsevents.com
 /events/all-team-bash-lawrenceville-ga
DTSTART;TZID=Pacific/Midway:20170219T090000
DTEND;TZID=Pacific/Midway:20170219T150000
CATEGORIES:car, show, festival, meet
LOCATION:Coolray Field
WEBSITE:https://www.facebook.com/events/1414651085214599/
URL:https://www.facebook.com/events/1414651085214599/
CONTACT:https://www.facebook.com/allteambash/
ORGANIZER:All Team Bash
ATTACH;FMTTYPE="image/jpeg":http://storage.ning.com/topology/rest/1.0/
 file/get/967732781?profile=original
ATTENDEE;ROLE=REQ-PARTICIPANT;PARTSTAT=ACCEPTED;RSVP=TRUE;CN="Chuck Aa
 ron":https://www.southeastwheelsevents.com/profile/ChuckAaron886
END:VEVENT
END:VCALENDAR
