BEGIN:VCALENDAR
PRODID:NingEventWidget-v1
VERSION:2.0
METHOD:PUBLISH
BEGIN:VTIMEZONE
TZID:Pacific/Midway
X-LIC-LOCATION:Pacific/Midway
BEGIN:STANDARD
TZOFFSETFROM:-1100
TZOFFSETTO:-1100
TZNAME:SST
DTSTART:19700101T000000
END:STANDARD
END:VTIMEZONE
BEGIN:VEVENT
UID:5072275:Event:1072889
DTSTAMP:20260423T010944Z
SUMMARY:All Truck Nationals -Sevierville , TN
DESCRIPTION:Truck show for all brands of trucks. Top 50 Ford . Top 50 
 Chevy. Top 25 Rat Truck. Top 25 All other Brands. DJ , Judges , Awards
 , Vendors new and used. Vendors welcome, any questions call 423-608-45
 19.\n\nFor more information visit https://www.southeastwheelsevents.co
 m/events/all-truck-nationals
DTSTART;TZID=Pacific/Midway:20180426T080000
DTEND;TZID=Pacific/Midway:20180428T160000
CATEGORIES:truck, show
LOCATION:Sevier County Fair Grounds
WEBSITE:http://www.surfboardpromotion.com
URL:http://www.surfboardpromotion.com
CONTACT:4236084519
ORGANIZER;CN="rodney buckner":https://www.southeastwheelsevents.com/pr
 ofile/rodneybuckner
ATTACH;FMTTYPE="image/jpeg":http://storage.ning.com/topology/rest/1.0/
 file/get/967756670?profile=original
ATTENDEE;ROLE=REQ-PARTICIPANT;PARTSTAT=ACCEPTED;RSVP=TRUE;CN="rodney b
 uckner":https://www.southeastwheelsevents.com/profile/rodneybuckner
END:VEVENT
END:VCALENDAR
