BEGIN:VCALENDAR
PRODID:NingEventWidget-v1
VERSION:2.0
METHOD:PUBLISH
BEGIN:VTIMEZONE
TZID:Pacific/Midway
X-LIC-LOCATION:Pacific/Midway
BEGIN:STANDARD
TZOFFSETFROM:-1100
TZOFFSETTO:-1100
TZNAME:SST
DTSTART:19700101T000000
END:STANDARD
END:VTIMEZONE
BEGIN:VEVENT
UID:5072275:Event:1024661
DTSTAMP:20260420T025419Z
SUMMARY:America's Auto Auction - Atlanta
DESCRIPTION:America's Auto Auction - Atlanta will be held at Georgia A
 merica's AA, Cartersville, GA. Featuring hundreds of vehicles from loc
 al dealers, local banks and national remarketing clients. Join us in A
 uctionPipeline. Auction starts at 6.00pm. End time may change.\n\nFor 
 more information visit https://www.southeastwheelsevents.com/events/am
 erica-s-auto-auction-atlanta
DTSTART;TZID=Pacific/Midway:20161213T180000
DTEND;TZID=Pacific/Midway:20161213T210000
CATEGORIES:business, "auction/swap"
LOCATION:Georgia America's AA
WEBSITE:http://www.americasautoauction.com/Calendar.aspx
URL:http://www.americasautoauction.com/Calendar.aspx
CONTACT:
ORGANIZER:America's Auto Auction
ATTACH;FMTTYPE="image/jpeg":
ATTENDEE;ROLE=REQ-PARTICIPANT;PARTSTAT=ACCEPTED;RSVP=TRUE;CN="Chris go
 sney":https://www.southeastwheelsevents.com/profile/Chrisgosney
END:VEVENT
END:VCALENDAR
