BEGIN:VCALENDAR
PRODID:NingEventWidget-v1
VERSION:2.0
METHOD:PUBLISH
BEGIN:VTIMEZONE
TZID:Pacific/Midway
X-LIC-LOCATION:Pacific/Midway
BEGIN:STANDARD
TZOFFSETFROM:-1100
TZOFFSETTO:-1100
TZNAME:SST
DTSTART:19700101T000000
END:STANDARD
END:VTIMEZONE
BEGIN:VEVENT
UID:5072275:Event:2351
DTSTAMP:20260424T160319Z
SUMMARY:American Cancer Society Benefit Car Show -Newnan, Ga
DESCRIPTION:04/10, 2010 - American Cancer Society Benefit Car Show\nNe
 wnan, Georgia\nLocation: Southtowne Motors of Newnan behind Motel 6 80
 0 Bullsboro Dr.\nContact Phone: 706-668-7731\nDetails: TOP 25 ++++++BE
 ST CAR ,BEST TRUCK,& OUT OF THE ORDINARY AWARDS. GOODIE BAGS,DOOR PRIZ
 ES,DASH PLAQUES, MUSIC,FOOD,50/50 POT & MORE. WANTED VENDORS OF ALL KI
 NDS ,VENDOR SPACE $25. Car registration is $20.\n\nFor more informatio
 n visit https://www.southeastwheelsevents.com/events/american-cancer-s
 ociety
DTSTART;TZID=Pacific/Midway:20100410T100000
DTEND;TZID=Pacific/Midway:20100410T160000
CATEGORIES:car, show
LOCATION:Southtowne Motors of Newnan
WEBSITE:
URL:
CONTACT:706-668-7731
ORGANIZER:Southtowne Motors
ATTACH;FMTTYPE="image/jpeg":http://storage.ning.com/topology/rest/1.0/
 file/get/967565222?profile=original
ATTENDEE;ROLE=REQ-PARTICIPANT;PARTSTAT=ACCEPTED;RSVP=TRUE;CN="Michael 
 Thies":https://www.southeastwheelsevents.com/profile/MichaelThies
ATTENDEE;ROLE=REQ-PARTICIPANT;PARTSTAT=TENTATIVE;RSVP=TRUE;CN="Mike Da
 ly Sr":https://www.southeastwheelsevents.com/profile/MikeDalySr
END:VEVENT
END:VCALENDAR
