BEGIN:VCALENDAR
PRODID:NingEventWidget-v1
VERSION:2.0
METHOD:PUBLISH
BEGIN:VTIMEZONE
TZID:Pacific/Midway
X-LIC-LOCATION:Pacific/Midway
BEGIN:STANDARD
TZOFFSETFROM:-1100
TZOFFSETTO:-1100
TZNAME:SST
DTSTART:19700101T000000
END:STANDARD
END:VTIMEZONE
BEGIN:VEVENT
UID:5072275:Event:586895
DTSTAMP:20260421T070619Z
SUMMARY:AMERICAN CRUISERS OF NC.AND STEVENSON RARE COINS PRESENTS MISS
 ION CHILDREN'S FALL CAR SHOW
DESCRIPTION:OPEN TO ALL CARS AND TRUCKS ALL YEARS\n\nFor more informat
 ion visit https://www.southeastwheelsevents.com/events/american-cruise
 rs-of-nc-and-stevenson-rare-coins-presents-mission
DTSTART;TZID=Pacific/Midway:20121027T100000
DTEND;TZID=Pacific/Midway:20121027T160000
CATEGORIES:fundrasisers, for, children
LOCATION:WNC FARMER MARKET
WEBSITE:
URL:
CONTACT:828-712-2096
ORGANIZER;CN="LARRY BROWNE":https://www.southeastwheelsevents.com/prof
 ile/LARRYBROWNE
ATTACH;FMTTYPE="image/jpeg":http://storage.ning.com/topology/rest/1.0/
 file/get/967629847?profile=original
ATTENDEE;ROLE=REQ-PARTICIPANT;PARTSTAT=ACCEPTED;RSVP=TRUE;CN="LARRY BR
 OWNE":https://www.southeastwheelsevents.com/profile/LARRYBROWNE
END:VEVENT
END:VCALENDAR
