BEGIN:VCALENDAR
PRODID:NingEventWidget-v1
VERSION:2.0
METHOD:PUBLISH
BEGIN:VTIMEZONE
TZID:Pacific/Midway
X-LIC-LOCATION:Pacific/Midway
BEGIN:STANDARD
TZOFFSETFROM:-1100
TZOFFSETTO:-1100
TZNAME:SST
DTSTART:19700101T000000
END:STANDARD
END:VTIMEZONE
BEGIN:VEVENT
UID:5072275:Event:757637
DTSTAMP:20260420T163125Z
SUMMARY:\"American Graffiti\" Showing - Marietta, GA
DESCRIPTION:Saturday  night at the Earl Smith Strand Theatre in Marie
 tta there will be a showing of “American Grafitti” starting at 8PM
 . If you will call 770 293 0080 and mention the word “HOTROD” the 
 ticket price will be $4.00.  \n\n__________________________________\
 nWelcome to the Earl Smith Strand Theatre!\n\"After sitting dark for o
 ver 30 years, the 1935 Art Deco theatre was renovated and reopened in 
 2009 for your viewing pleasure. We hope to see you at a show soon – 
 you have the opportunity to see musical productions, classic movies, c
 oncerts, and more! The unique facility is also available for corporat
 e and private events such as workshops, receptions, rehearsal dinners
 , and holiday functions. Please explore our site for more information 
 or call 770-293-0080 to learn more. Now sit back, relax, and enjoy the
  show!\"\n\nFor more information visit https://www.southeastwheelseven
 ts.com/events/american-graffiti-showing-marietta-ga
DTSTART;TZID=Pacific/Midway:20140405T194500
DTEND;TZID=Pacific/Midway:20140405T223000
CATEGORIES:movie, cruise-in
LOCATION:Earl Smith Strand Theatre
WEBSITE:http://www.earlsmithstrand.org/upcoming-events.php
URL:http://www.earlsmithstrand.org/upcoming-events.php
CONTACT:770-293-0080
ORGANIZER:Earl Smith Strand Theatre
ATTACH;FMTTYPE="image/jpeg":http://storage.ning.com/topology/rest/1.0/
 file/get/967654466?profile=original
ATTENDEE;ROLE=REQ-PARTICIPANT;PARTSTAT=ACCEPTED;RSVP=TRUE;CN="Patrick 
 J. Meehan":https://www.southeastwheelsevents.com/profile/PatrickJMeeha
 n
ATTENDEE;ROLE=REQ-PARTICIPANT;PARTSTAT=ACCEPTED;RSVP=TRUE;CN="Michael 
 Thies":https://www.southeastwheelsevents.com/profile/MichaelThies
END:VEVENT
END:VCALENDAR
