BEGIN:VCALENDAR
PRODID:NingEventWidget-v1
VERSION:2.0
METHOD:PUBLISH
BEGIN:VTIMEZONE
TZID:Pacific/Midway
X-LIC-LOCATION:Pacific/Midway
BEGIN:STANDARD
TZOFFSETFROM:-1100
TZOFFSETTO:-1100
TZNAME:SST
DTSTART:19700101T000000
END:STANDARD
END:VTIMEZONE
BEGIN:VEVENT
UID:5072275:Event:896300
DTSTAMP:20260425T115354Z
SUMMARY:American Legion Post 19 Classic Car/Truck & Motorcycle Show -C
 olumbia, TN
DESCRIPTION:American Legion Post 19  Classic Car/Truck & Motorcycle 
 show. RAIN DAY June 7th, Registration 8 to 11 & Show Hours  11am t
 o 4pm. Great Food, Live Music, Homemade Ice Cream, Door Prizes, 50/50
 , Trophies, Dash Plaques to the first 50 entries and sooooo much more
 .  Bring your friends and meet new ones. What better way to meet a b
 unch of fellow Gearheads than this. The show is supporting Veterans t
 hrough the: American Legion. Herbert Griffin Post 19,  812 Nashvil
 le Hwy, Columbia, Tennessee 38401. Email for information:  America
 nLegionPost19carshow@yahoo.com Phone  860-921-6415.Post website ht
 tp://www.legionpost19.com/        FLYER\n\nFor more informatio
 n visit https://www.southeastwheelsevents.com/events/american-legion-p
 ost-19-classic-car-truck-motorcycle-show-columbi
DTSTART;TZID=Pacific/Midway:20150606T080000
DTEND;TZID=Pacific/Midway:20150606T160000
CATEGORIES:car-show
LOCATION:American Legion Herbert Griffin Post 19
WEBSITE:http://www.legionpost19.com/
URL:http://www.legionpost19.com/
CONTACT:860-921-6415
ORGANIZER:American Legion Herbert Griffin Post 19
ATTACH;FMTTYPE="image/jpeg":http://storage.ning.com/topology/rest/1.0/
 file/get/967687325?profile=original
ATTENDEE;ROLE=REQ-PARTICIPANT;PARTSTAT=ACCEPTED;RSVP=TRUE;CN="Chuck Aa
 ron":https://www.southeastwheelsevents.com/profile/ChuckAaron
END:VEVENT
END:VCALENDAR
