BEGIN:VCALENDAR
PRODID:NingEventWidget-v1
VERSION:2.0
METHOD:PUBLISH
BEGIN:VTIMEZONE
TZID:Pacific/Midway
X-LIC-LOCATION:Pacific/Midway
BEGIN:STANDARD
TZOFFSETFROM:-1100
TZOFFSETTO:-1100
TZNAME:SST
DTSTART:19700101T000000
END:STANDARD
END:VTIMEZONE
BEGIN:VEVENT
UID:5072275:Event:837387
DTSTAMP:20260421T035441Z
SUMMARY:AMERICAN LEGION POST 258 FALL CAR/BIKE/TRUCK SHOW -Jonesboro, 
 GA
DESCRIPTION:CONTACT: WAYNE APPELL (386) 589-4008 1480 AMERICAN LEGION 
 WAY  JONESBORO, GA 30236  (770)-478-8046  ½ MILE SOUTH OF JONESBORO O
 N MAIN STREET  ACROSS FROM DEAN’S BAR-B-Q  MAIL REGISTRATION TO THE 
 AMERICAN LEGION POST 258  AMERICAN LEGION RIDERS POST 258  FOURTH ANNU
 AL FALL CAR/BIKE/TRUCK SHOW  OCTOBER 5, 2013  SHOW REGISTRATION 9AM -1
 2PM  AWARDS 3PM  $25.00 ENTRY FEE  AWARDS FOR BEST CAR, BEST BIKE, BES
 T TRUCK, BEST OF SHOW AND TOP 25  PROCEEDS GOING TO HELP VETERANS  DOO
 RPRIZES  AUCTION  MUSIC  FOOD  FREE SPECTATOR ENTRY  AND  E-MAIL:_____
 _____  ADDRESS:_______________________________________________________
 _______________  TYPE OF VEHICLE: MAKE:________ MODEL_________ YEAR___
 _ CATEGORY________  I HAVE ENCLOSED PRE-REGISTRATION FEE OF $20.00 (CA
 SH, CHECK, MONEY ORDER)  SIGNITURE;__________________________  By sign
 ing I understand the American Legion and AL Riders disclaim any respon
 sibility for  damage to your vehicle or injury to self, although every
  effort will be made to safeguard it.  Attention: CAR SHOW\n\nFor more
  information visit https://www.southeastwheelsevents.com/events/americ
 an-legion-post-258-fall-car-bike-truck-show-jonesboro-ga
DTSTART;TZID=Pacific/Midway:20141011T080000
DTEND;TZID=Pacific/Midway:20141011T160000
CATEGORIES:car-show, bike-show
LOCATION:AMERICAN LEGION POST 258
WEBSITE:http://Justtruckin4x4x4@aol.com
URL:http://Justtruckin4x4x4@aol.com
CONTACT:(770)-478-8046 Justtruckin4x4x4@aol.com
ORGANIZER:AMERICAN LEGION POST 258
ATTACH;FMTTYPE="image/jpeg":http://storage.ning.com/topology/rest/1.0/
 file/get/967644367?profile=original
ATTENDEE;ROLE=REQ-PARTICIPANT;PARTSTAT=ACCEPTED;RSVP=TRUE;CN="Chuck Aa
 ron":https://www.southeastwheelsevents.com/profile/ChuckAaron
END:VEVENT
END:VCALENDAR
