BEGIN:VCALENDAR
PRODID:NingEventWidget-v1
VERSION:2.0
METHOD:PUBLISH
BEGIN:VTIMEZONE
TZID:Pacific/Midway
X-LIC-LOCATION:Pacific/Midway
BEGIN:STANDARD
TZOFFSETFROM:-1100
TZOFFSETTO:-1100
TZNAME:SST
DTSTART:19700101T000000
END:STANDARD
END:VTIMEZONE
BEGIN:VEVENT
UID:5072275:Event:1086489
DTSTAMP:20260423T180505Z
SUMMARY:American Legion Post 328 2nd Annual Car &amp; Truck Show- GAIN
 ESVILLE, GA
DESCRIPTION:2nd Annual Car & Truck Show\n\nFor more information visit 
 https://www.southeastwheelsevents.com/events/american-legion-post-328-
 2nd-annual-car-amp-truck-show
DTSTART;TZID=Pacific/Midway:20180610T000000
DTEND;TZID=Pacific/Midway:20180610T235900
CATEGORIES:car, show
LOCATION:The Oaks at Lanier Career Academy
WEBSITE:
URL:
CONTACT:(678) 780-6969, (770) 636-3178, (770) 561-9173
ORGANIZER:Lamar Millsap , James Robertson or Harold Goss
ATTACH;FMTTYPE="image/jpeg":http://storage.ning.com/topology/rest/1.0/
 file/get/967775316?profile=original
ATTENDEE;ROLE=REQ-PARTICIPANT;PARTSTAT=ACCEPTED;RSVP=TRUE;CN="Anthony 
 Hopkins":https://www.southeastwheelsevents.com/profile/AnthonyHopkins
END:VEVENT
END:VCALENDAR
