BEGIN:VCALENDAR
PRODID:NingEventWidget-v1
VERSION:2.0
METHOD:PUBLISH
BEGIN:VTIMEZONE
TZID:Pacific/Midway
X-LIC-LOCATION:Pacific/Midway
BEGIN:STANDARD
TZOFFSETFROM:-1100
TZOFFSETTO:-1100
TZNAME:SST
DTSTART:19700101T000000
END:STANDARD
END:VTIMEZONE
BEGIN:VEVENT
UID:5072275:Event:1180129
DTSTAMP:20260420T030155Z
SUMMARY:American Legion Post 99 Open Car Show - Foley, Al
DESCRIPTION:American Legion Post 99 Open Car Show, 2101 South Mckenzie
  Street.\n\nFor more information visit https://www.southeastwheelseven
 ts.com/events/american-legion-post-99-open-car-show-foley-al
DTSTART;TZID=Pacific/Midway:20241102T080000
DTEND;TZID=Pacific/Midway:20241102T140000
CATEGORIES:car, show, cruise-in
LOCATION:American Legion Post 99
WEBSITE:
URL:
CONTACT:Bob 251-943-311, or 469- 569-9953
ORGANIZER:American Legion Post 99
ATTACH;FMTTYPE="image/jpeg":https://storage.ning.com/topology/rest/1.0
 /file/get/3700584305?profile=original
ATTENDEE;ROLE=REQ-PARTICIPANT;PARTSTAT=ACCEPTED;RSVP=TRUE;CN="Anthony 
 Hopkins":https://www.southeastwheelsevents.com/profile/AnthonyHopkins
END:VEVENT
END:VCALENDAR
