BEGIN:VCALENDAR
PRODID:NingEventWidget-v1
VERSION:2.0
METHOD:PUBLISH
BEGIN:VTIMEZONE
TZID:Pacific/Midway
X-LIC-LOCATION:Pacific/Midway
BEGIN:STANDARD
TZOFFSETFROM:-1100
TZOFFSETTO:-1100
TZNAME:SST
DTSTART:19700101T000000
END:STANDARD
END:VTIMEZONE
BEGIN:VEVENT
UID:5072275:Event:185049
DTSTAMP:20260422T152448Z
SUMMARY:American Motor Weekend - Daytona's Spring Car Show
DESCRIPTION:The American Motor Weekend\nThe 22rd Annual Daytona Spring
  Car Show\nOn the infield of Daytona International Speedway\n \nThis 
 classic American car show includes thousands of show-quality cars and 
 a unique collection of special showcases for motor fans of all kinds, 
 including military tanks, motorcycles and more.  This family-friendly
  event is one of the largest of its kind in a historic venue – Dayto
 na International Speedway. \n \n \n\nThousands of show cars\nALL-NE
 W motorcycle showcase hosted by ROAR\nALL-NEW National Guard vehicle
  display\nALL-NEW Rat Rod show\nALL-NEW Antique tractors display\nMe
 et racing legends Geoff Bodine & \"Big Daddy\" Don Garlits\nSee 70+ Mo
 del A Fords cruise the Speedway on Saturday (thanks to the Model A Res
 torer's Club)\nCar Corral, Swap Meet and more!\n\n \n \nFriday-Sunda
 y, March 25-27\n$10 Friday & Saturday, $5 Sunday\nFree parking\nwww.da
 ytonabeachcarshows.com\n\nFor more information visit https://www.south
 eastwheelsevents.com/events/american-motor-weekend
DTSTART;TZID=Pacific/Midway:20110325T200000
DTEND;TZID=Pacific/Midway:20110327T160000
CATEGORIES:car, show, "&", swap, meet
LOCATION:Daytona International Speedway
WEBSITE:http://www.daytonabeachcarshows.com
URL:http://www.daytonabeachcarshows.com
CONTACT:3862557355
ORGANIZER;CN="Bobby Wesley":https://www.southeastwheelsevents.com/prof
 ile/BobbyWesley
ATTACH;FMTTYPE="image/jpeg":http://storage.ning.com/topology/rest/1.0/
 file/get/967589460?profile=original
ATTENDEE;ROLE=REQ-PARTICIPANT;PARTSTAT=ACCEPTED;RSVP=TRUE;CN="Bobby We
 sley":https://www.southeastwheelsevents.com/profile/BobbyWesley
END:VEVENT
END:VCALENDAR
