BEGIN:VCALENDAR
PRODID:NingEventWidget-v1
VERSION:2.0
METHOD:PUBLISH
BEGIN:VTIMEZONE
TZID:Pacific/Midway
X-LIC-LOCATION:Pacific/Midway
BEGIN:STANDARD
TZOFFSETFROM:-1100
TZOFFSETTO:-1100
TZNAME:SST
DTSTART:19700101T000000
END:STANDARD
END:VTIMEZONE
BEGIN:VEVENT
UID:5072275:Event:1099282
DTSTAMP:20260420T062522Z
SUMMARY:American Street Rodders 12th Annual Car Show - Hoschton, Ga
DESCRIPTION:American Street Rodders 12th Annual Car Show in conjunctio
 n with Hoschton's Fall Festival.\n\nFor more information visit https:/
 /www.southeastwheelsevents.com/events/american-street-rodders-12th-ann
 ual-car-show-hoschton-ga
DTSTART;TZID=Pacific/Midway:20180922T090000
DTEND;TZID=Pacific/Midway:20180922T150000
CATEGORIES:car, show, cruise, in
LOCATION:Hoschton United Methodist Church,
WEBSITE:https://www.google.co.in/maps/place/Hoschton+United+Methodist+
 Church/@34.0968334,-83.7669721,17z/data=!3m1!4b1!4m5!3m4!1s0x88f5ef582
 b9daf2b:0x62d8896ec3f79224!8m2!3d34.096829!4d-83.7647834
URL:https://www.google.co.in/maps/place/Hoschton+United+Methodist+Chur
 ch/@34.0968334,-83.7669721,17z/data=!3m1!4b1!4m5!3m4!1s0x88f5ef582b9da
 f2b:0x62d8896ec3f79224!8m2!3d34.096829!4d-83.7647834
CONTACT:(404) 597-6170
ORGANIZER:Ray Vaughn
ATTACH;FMTTYPE="image/jpeg":http://storage.ning.com/topology/rest/1.0/
 file/get/967791886?profile=original
ATTENDEE;ROLE=REQ-PARTICIPANT;PARTSTAT=ACCEPTED;RSVP=TRUE;CN="Larry No
 rton":https://www.southeastwheelsevents.com/profile/LarryNorton
ATTENDEE;ROLE=REQ-PARTICIPANT;PARTSTAT=ACCEPTED;RSVP=TRUE;CN="Anthony 
 Hopkins":https://www.southeastwheelsevents.com/profile/AnthonyHopkins
ATTENDEE;ROLE=REQ-PARTICIPANT;PARTSTAT=TENTATIVE;RSVP=TRUE;CN="Bob Sar
 da":https://www.southeastwheelsevents.com/profile/BobSarda
END:VEVENT
END:VCALENDAR
