BEGIN:VCALENDAR
PRODID:NingEventWidget-v1
VERSION:2.0
METHOD:PUBLISH
BEGIN:VTIMEZONE
TZID:Pacific/Midway
X-LIC-LOCATION:Pacific/Midway
BEGIN:STANDARD
TZOFFSETFROM:-1100
TZOFFSETTO:-1100
TZNAME:SST
DTSTART:19700101T000000
END:STANDARD
END:VTIMEZONE
BEGIN:VEVENT
UID:5072275:Event:699584
DTSTAMP:20260420T224258Z
SUMMARY:American Street Rodders Annual Car Show -Hoschton, GA
DESCRIPTION:American Street Rodders Annual Car Show Downtown from 9 a.
 m.- 3 p.m. Info: Ray Vaughn 404.597.6170, Pete Frey 770.789.6801 or am
 ericanstreetrodders.net\n\nFor more information visit https://www.sout
 heastwheelsevents.com/events/american-street-rodders-annual-car-show-h
 oschton-ga
DTSTART;TZID=Pacific/Midway:20140927T090000
DTEND;TZID=Pacific/Midway:20140927T150000
CATEGORIES:car-show
LOCATION:Downtown
WEBSITE:http://www.americanstreetrodders.net
URL:http://www.americanstreetrodders.net
CONTACT:Ray Vaughn 404.597.6170, Pete Frey 770.789.6801
ORGANIZER:American Street Rodders
ATTACH;FMTTYPE="image/jpeg":http://storage.ning.com/topology/rest/1.0/
 file/get/967646616?profile=original
ATTENDEE;ROLE=REQ-PARTICIPANT;PARTSTAT=ACCEPTED;RSVP=TRUE;CN="Jack Tho
 mas":https://www.southeastwheelsevents.com/profile/JackThomas
ATTENDEE;ROLE=REQ-PARTICIPANT;PARTSTAT=ACCEPTED;RSVP=TRUE;CN="Mike Nie
 to":https://www.southeastwheelsevents.com/profile/MikeNieto
END:VEVENT
END:VCALENDAR
