BEGIN:VCALENDAR
PRODID:NingEventWidget-v1
VERSION:2.0
METHOD:PUBLISH
BEGIN:VTIMEZONE
TZID:Pacific/Midway
X-LIC-LOCATION:Pacific/Midway
BEGIN:STANDARD
TZOFFSETFROM:-1100
TZOFFSETTO:-1100
TZNAME:SST
DTSTART:19700101T000000
END:STANDARD
END:VTIMEZONE
BEGIN:VEVENT
UID:5072275:Event:857036
DTSTAMP:20260423T143901Z
SUMMARY:American Street Rodders Car Show -Buford, GA
DESCRIPTION:\r\nThe American Street Rodders will wrap-up the Season wi
 th our Annual Car Show on Saturday Oct 19, 2024 @ Papa Jacks Country K
 itchen, 1pm-4pm. 40 trophies including Top 5, Best of Show, and 2000 a
 nd above vehicles. Profit goes to Angel's In Waiting and Home For Hope
 . We look forward to seeing you there!\n\nFor more information visit h
 ttps://www.southeastwheelsevents.com/events/american-street-rodders-ca
 r-show-2023
DTSTART;TZID=Pacific/Midway:20241019T130000
DTEND;TZID=Pacific/Midway:20241019T163000
CATEGORIES:car, show, cruise, in
LOCATION:Papa Jack's
WEBSITE:https://www.facebook.com/redhotroadster
URL:https://www.facebook.com/redhotroadster
CONTACT:770-614-9049 or 706-654-0162
ORGANIZER:American Street Rodders
ATTACH;FMTTYPE="image/jpeg":http://storage.ning.com/topology/rest/1.0/
 file/get/967566714?profile=original
ATTENDEE;ROLE=REQ-PARTICIPANT;PARTSTAT=ACCEPTED;RSVP=TRUE;CN="Chuck Aa
 ron":https://www.southeastwheelsevents.com/profile/ChuckAaron
ATTENDEE;ROLE=REQ-PARTICIPANT;PARTSTAT=ACCEPTED;RSVP=TRUE;CN="bob pace
 r":https://www.southeastwheelsevents.com/profile/bobpacer
ATTENDEE;ROLE=REQ-PARTICIPANT;PARTSTAT=TENTATIVE;RSVP=TRUE;CN="JP Brad
 y":https://www.southeastwheelsevents.com/profile/jpbrady
END:VEVENT
END:VCALENDAR
