BEGIN:VCALENDAR
PRODID:NingEventWidget-v1
VERSION:2.0
METHOD:PUBLISH
BEGIN:VTIMEZONE
TZID:Pacific/Midway
X-LIC-LOCATION:Pacific/Midway
BEGIN:STANDARD
TZOFFSETFROM:-1100
TZOFFSETTO:-1100
TZNAME:SST
DTSTART:19700101T000000
END:STANDARD
END:VTIMEZONE
BEGIN:VEVENT
UID:5072275:Event:898402
DTSTAMP:20260424T234845Z
SUMMARY:American Street Rodders Cruise In/Car Show -Hochston, Ga
DESCRIPTION:Our October 3 cruise-in will be the make up date for our s
 how rained out on Sept. 26. 30 trophies and 2 handbuilt trophies for b
 est of show. Ron  American Street Rodders\nThe “American Street Rod
 ders” Car Club is proud to be hosting monthly cruise-ins at Towne Ce
 nter Shopping Center Hoschton, Georgia. Stop by on the 1st Saturday ni
 ght of each month from April thru October, starting at 5 pm, to see co
 ol classic and antique cars; hot rods, customs, factory originals.....
 there's something for everybody! Plus you can also browse at the gift 
 shops or keep the cravings away by having a meal at one of the restaur
 ants, or enjoy delicious ice cream from the ice cream parlor. And ther
 e's lots of great oldies music from the era! We will have a DJ to keep
  the entertainment going and tunes spinning. It's a great way to spend
  a Saturday night for anyone of any age, and there's never a charge fo
 r cruisers or spectators!  The “American Street Rodders” Car Club 
 is a family oriented organization. The club was created to provide a f
 orum for individuals who enjoy sharing their interest in automobiles, 
 reflecting the Cruisin' 50's & 60's era, and who will enjoy and seek t
 he fellowship of other individuals. If you are interested in becoming 
 a member, contact a member or download an application form from our me
 mbership page.  The Club is made up of people of all ages, with cars o
 f all makes, models & years. All the Members have at least one of the 
 following things in common: they enjoy cool cars, fun times, good food
 , great friends, and doing things to give something back to the commun
 ity.  Remember that old Camaro you used to cherish, the Corvette you d
 reamed about as a teenager or the oldie-but-goodie Chevrolet Impala th
 at served as the first “family” car? In what will seem like a trip
  back in time, these and many other classics, customs, street rods, im
 ports and trucks, each in mint condition, will roll into the Downtown
  Square of the City of Hoschton each 1st Saturday, April - Oct. from 
 5 pm - 9:00 pm.\n\nFor more information visit https://www.southeastwhe
 elsevents.com/events/american-street-rodders-cruise-in-hochston-ga-14
DTSTART;TZID=Pacific/Midway:20151003T170000
DTEND;TZID=Pacific/Midway:20151003T210000
CATEGORIES:cruise-in, car-show
LOCATION:City of Hoschton
WEBSITE:http://www.americanstreetrodders.net
URL:http://www.americanstreetrodders.net
CONTACT:770-614-9049 or 706-654-0162
ORGANIZER:American Street Rodders
ATTACH;FMTTYPE="image/jpeg":http://storage.ning.com/topology/rest/1.0/
 file/get/967567988?profile=original
ATTENDEE;ROLE=REQ-PARTICIPANT;PARTSTAT=ACCEPTED;RSVP=TRUE;CN="Billy He
 ndrix":https://www.southeastwheelsevents.com/profile/BillyHendrix
ATTENDEE;ROLE=REQ-PARTICIPANT;PARTSTAT=ACCEPTED;RSVP=TRUE;CN="Chuck Aa
 ron":https://www.southeastwheelsevents.com/profile/ChuckAaron
END:VEVENT
END:VCALENDAR
