BEGIN:VCALENDAR
PRODID:NingEventWidget-v1
VERSION:2.0
METHOD:PUBLISH
BEGIN:VTIMEZONE
TZID:Pacific/Midway
X-LIC-LOCATION:Pacific/Midway
BEGIN:STANDARD
TZOFFSETFROM:-1100
TZOFFSETTO:-1100
TZNAME:SST
DTSTART:19700101T000000
END:STANDARD
END:VTIMEZONE
BEGIN:VEVENT
UID:5072275:Event:898483
DTSTAMP:20260423T105051Z
SUMMARY:American Street Rodders Cruise In -Hochston, Ga
DESCRIPTION:The American Street Rodders July cruise-in is scheduled fo
 r Saturday evening (7/18) beginning at 5 PM in Hoschton. Due to the on
 going coronavirus concerns, we will try to limit social interactions a
 s much as possible. Registration will be $10, and we will be offering 
 hot dog or hamburger plates and drinks for $5 ea.  Extra drawing tick
 ets $5.. We ask that you bring correct change for the above to minimiz
 e the risk of transmission of the virus. If you don't feel well, pleas
 e wait and come to the next one..We will have the $600 money board als
 o. Set-up begins at 4 PM.\r\nThe “American Street Rodders” Car Clu
 b is proud to be hosting monthly cruise-ins in downtown Hoschton, Geor
 gia. Stop by on the 1st Saturday night of each month from April thru O
 ctober, starting at 5 pm, to see cool classic and antique cars; hot ro
 ds, customs, factory originals.....there's something for everybody! Pl
 us you can also browse at the gift shops or keep the cravings away by 
 having a meal at one of the restaurants, or enjoy delicious ice cream 
 from the ice cream parlor. And there's lots of great oldies music from
  the era! We will have a DJ to keep the entertainment going and tunes 
 spinning. It's a great way to spend a Saturday night for anyone of any
  age, and there's never a charge for cruisers or spectators!  The “A
 merican Street Rodders” Car Club is a family oriented organization. 
 The club was created to provide a forum for individuals who enjoy shar
 ing their interest in automobiles, reflecting the Cruisin' 50's & 60's
  era, and who will enjoy and seek the fellowship of other individuals.
  If you are interested in becoming a member, contact a member or downl
 oad an application form from our membership page.  The Club is made up
  of people of all ages, with cars of all makes, models & years. All th
 e Members have at least one of the following things in common: they en
 joy cool cars, fun times, good food, great friends, and doing things t
 o give something back to the community.  Remember that old Camaro you 
 used to cherish, the Corvette you dreamed about as a teenager or the o
 ldie-but-goodie Chevrolet Impala that served as the first “family”
  car? In what will seem like a trip back in time, these and many other
  classics, customs, street rods, imports and trucks, each in mint cond
 ition, will roll into the Downtown Square of the City of Hoschton ea
 ch 1st Saturday, April - Oct. from 5 pm - 9:00 pm.\n\nFor more informa
 tion visit https://www.southeastwheelsevents.com/events/american-stree
 t-rodders-cruise-in-hochston-ga-20
DTSTART;TZID=Pacific/Midway:20200718T170000
DTEND;TZID=Pacific/Midway:20200718T210000
CATEGORIES:cruise-in
LOCATION:Downtown Square of the City of Hoschton
WEBSITE:http://www.americanstreetrodders.net
URL:http://www.americanstreetrodders.net
CONTACT:770-614-9049 or 706-654-0162
ORGANIZER:American Street Rodders
ATTACH;FMTTYPE="image/jpeg":http://storage.ning.com/topology/rest/1.0/
 file/get/967567988?profile=original
ATTENDEE;ROLE=REQ-PARTICIPANT;PARTSTAT=ACCEPTED;RSVP=TRUE;CN="Chuck Aa
 ron":https://www.southeastwheelsevents.com/profile/ChuckAaron
ATTENDEE;ROLE=REQ-PARTICIPANT;PARTSTAT=ACCEPTED;RSVP=TRUE;CN="Steven F
  Mimbs":https://www.southeastwheelsevents.com/profile/StevenFMimbs
ATTENDEE;ROLE=REQ-PARTICIPANT;PARTSTAT=ACCEPTED;RSVP=TRUE;CN="Bo Freer
 ":https://www.southeastwheelsevents.com/profile/BoFreer
ATTENDEE;ROLE=REQ-PARTICIPANT;PARTSTAT=TENTATIVE;RSVP=TRUE;CN="Fred Bo
 tts":https://www.southeastwheelsevents.com/profile/FredBotts
ATTENDEE;ROLE=REQ-PARTICIPANT;PARTSTAT=TENTATIVE;RSVP=TRUE;CN="Terry B
 uhite":https://www.southeastwheelsevents.com/profile/TerryBuhite
ATTENDEE;ROLE=REQ-PARTICIPANT;PARTSTAT=TENTATIVE;RSVP=TRUE;CN="Steven 
 Beauregard":https://www.southeastwheelsevents.com/profile/StevenBeaure
 gard
END:VEVENT
END:VCALENDAR
