BEGIN:VCALENDAR
PRODID:NingEventWidget-v1
VERSION:2.0
METHOD:PUBLISH
BEGIN:VTIMEZONE
TZID:Pacific/Midway
X-LIC-LOCATION:Pacific/Midway
BEGIN:STANDARD
TZOFFSETFROM:-1100
TZOFFSETTO:-1100
TZNAME:SST
DTSTART:19700101T000000
END:STANDARD
END:VTIMEZONE
BEGIN:VEVENT
UID:5072275:Event:1233730
DTSTAMP:20260421T220037Z
SUMMARY:American Street Rodders Cruise Ins
DESCRIPTION:American Street Rodders 2022 Cruise In\nNew Location Papa 
 Jack’s Country  Kitchen 2200 Sparta Way Buford, GA 30529\n• $10 Do
 nation for Cruise In registration \n• 50/50 Raffle\n• $$$ Cash raf
 fle with registration \n• Blue Bell Creameries- Ice Cream \n• Kids
  Power Wheel car show\nSponsored by Haynes High Octane Customs\n \n\n
 \n\n\nFor more information visit https://www.southeastwheelsevents.com
 /events/american-street-rodders-cruise-ins-3
DTSTART;TZID=Pacific/Midway:20220917T160000
DTEND;TZID=Pacific/Midway:20220917T190000
CATEGORIES:cruise, in
LOCATION:Papa Jacks Country Kitchen
WEBSITE:https://www.facebook.com/redhotroadster
URL:https://www.facebook.com/redhotroadster
CONTACT:17706391750
ORGANIZER;CN="Shawn Crook":https://www.southeastwheelsevents.com/profi
 le/ShawnCrook
ATTACH;FMTTYPE="image/jpeg":https://storage.ning.com/topology/rest/1.0
 /file/get/10230516096?profile=original
ATTENDEE;ROLE=REQ-PARTICIPANT;PARTSTAT=ACCEPTED;RSVP=TRUE;CN="Shawn Cr
 ook":https://www.southeastwheelsevents.com/profile/ShawnCrook
END:VEVENT
END:VCALENDAR
