BEGIN:VCALENDAR
PRODID:NingEventWidget-v1
VERSION:2.0
METHOD:PUBLISH
BEGIN:VTIMEZONE
TZID:Pacific/Midway
X-LIC-LOCATION:Pacific/Midway
BEGIN:STANDARD
TZOFFSETFROM:-1100
TZOFFSETTO:-1100
TZNAME:SST
DTSTART:19700101T000000
END:STANDARD
END:VTIMEZONE
BEGIN:VEVENT
UID:5072275:Event:608589
DTSTAMP:20260420T062005Z
SUMMARY:American Street Rodder's Meeting -Buford, Ga
DESCRIPTION:The club meeting of the American Street Rodders will be he
 ld Monday evening at Papa Jack's County Kitchen, 2200 Sparta Way, Buf
 ord, GA. Meeting at 7, dinner and fellowship at 6. \r\n“American S
 treet Rodders” Car Club Meeting\r\n\r\n\r\nPROSPECTIVE MEMBERS WELCO
 ME!\r\nOur Car Club is proud to be hosting monthly cruise-ins at Papa 
 Jack's County Kitchen. Stop by on the 3rd Saturday night of each month
  from April thru October, starting at 5 pm, to see cool classic and an
 tique cars; hot rods, customs, factory originals.....there's something
  for everybody! \n\nFor more information visit https://www.southeastw
 heelsevents.com/events/american-street-rodders-meeting-hochston-ga-2
DTSTART;TZID=Pacific/Midway:20240603T170000
DTEND;TZID=Pacific/Midway:20240603T200000
CATEGORIES:club-meeting, cruise-in
LOCATION:Papa Jack's County Kitchen
WEBSITE:http://www.americanstreetrodders.net
URL:http://www.americanstreetrodders.net
CONTACT:770-614-9049 or 706-654-0162
ORGANIZER:American Street Rodders
ATTACH;FMTTYPE="image/jpeg":http://storage.ning.com/topology/rest/1.0/
 file/get/967566714?profile=original
ATTENDEE;ROLE=REQ-PARTICIPANT;PARTSTAT=ACCEPTED;RSVP=TRUE;CN="Michael 
 Thies":https://www.southeastwheelsevents.com/profile/MichaelThies
ATTENDEE;ROLE=REQ-PARTICIPANT;PARTSTAT=ACCEPTED;RSVP=TRUE;CN="Derik Pa
 ge":https://www.southeastwheelsevents.com/profile/DerikPage
END:VEVENT
END:VCALENDAR
