BEGIN:VCALENDAR
PRODID:NingEventWidget-v1
VERSION:2.0
METHOD:PUBLISH
BEGIN:VTIMEZONE
TZID:Pacific/Midway
X-LIC-LOCATION:Pacific/Midway
BEGIN:STANDARD
TZOFFSETFROM:-1100
TZOFFSETTO:-1100
TZNAME:SST
DTSTART:19700101T000000
END:STANDARD
END:VTIMEZONE
BEGIN:VEVENT
UID:5072275:Event:1180270
DTSTAMP:20260419T060432Z
SUMMARY:Ancient City Auto Club's 35th Annual Auto Show - St. Augustine
 , Fl
DESCRIPTION:Ancient City Auto Club's 35th Annual Auto Show at the Flor
 ida School for the Blind\n\nFor more information visit https://www.sou
 theastwheelsevents.com/events/ancient-city-auto-club-s-35th-annual-aut
 o-show-st-augustine-fl
DTSTART;TZID=Pacific/Midway:20191109T080000
DTEND;TZID=Pacific/Midway:20191109T160000
CATEGORIES:car, show, cruise-in
LOCATION:Florida School for the Blind,
WEBSITE:https://www.google.com/maps/place/Florida+School+for+the+Deaf+
 and+the+Blind+(FSDB)/@29.9137497,-81.3179758,17z/data=!3m1!4b1!4m5!3m4
 !1s0x88e427c963412de7:0xddcbbcd4212d912f!8m2!3d29.9137497!4d-81.315787
 1
URL:https://www.google.com/maps/place/Florida+School+for+the+Deaf+and+
 the+Blind+(FSDB)/@29.9137497,-81.3179758,17z/data=!3m1!4b1!4m5!3m4!1s0
 x88e427c963412de7:0xddcbbcd4212d912f!8m2!3d29.9137497!4d-81.3157871
CONTACT:904-797-7732
ORGANIZER:Dewey Porter
ATTACH;FMTTYPE="image/jpeg":https://storage.ning.com/topology/rest/1.0
 /file/get/3700492432?profile=original
ATTENDEE;ROLE=REQ-PARTICIPANT;PARTSTAT=ACCEPTED;RSVP=TRUE;CN="Anthony 
 Hopkins":https://www.southeastwheelsevents.com/profile/AnthonyHopkins
END:VEVENT
END:VCALENDAR
