BEGIN:VCALENDAR
PRODID:NingEventWidget-v1
VERSION:2.0
METHOD:PUBLISH
BEGIN:VTIMEZONE
TZID:Pacific/Midway
X-LIC-LOCATION:Pacific/Midway
BEGIN:STANDARD
TZOFFSETFROM:-1100
TZOFFSETTO:-1100
TZNAME:SST
DTSTART:19700101T000000
END:STANDARD
END:VTIMEZONE
BEGIN:VEVENT
UID:5072275:Event:1053622
DTSTAMP:20260423T171939Z
SUMMARY:Anderson Jockey Lot's 2nd Annual Car Show
DESCRIPTION:Anderson Jockey Lot's 2nd Annual Car Show Saturday June 24
 , 2017 9am-3pm 1st Place Prize $1000 2nd Place Prize $300 3rd Place Pr
 ize $200 If you are interested in entering your car please call 864-22
 4-2027 for registration details. Early Entry Fee $15.00\n\nFor more in
 formation visit https://www.southeastwheelsevents.com/events/anderson-
 jockey-lot-s-2nd-annual-car-show
DTSTART;TZID=Pacific/Midway:20170624T090000
DTEND;TZID=Pacific/Midway:20170624T150000
CATEGORIES:car, show
LOCATION:Anderson Jockey Lot
WEBSITE:
URL:
CONTACT:864-224-2027
ORGANIZER:Anderson Jockey Lot
ATTACH;FMTTYPE="image/jpeg":http://storage.ning.com/topology/rest/1.0/
 file/get/967748370?profile=original
ATTENDEE;ROLE=REQ-PARTICIPANT;PARTSTAT=ACCEPTED;RSVP=TRUE;CN="Lee Gosn
 ey":https://www.southeastwheelsevents.com/profile/LeeGosney
END:VEVENT
END:VCALENDAR
