BEGIN:VCALENDAR
PRODID:NingEventWidget-v1
VERSION:2.0
METHOD:PUBLISH
BEGIN:VTIMEZONE
TZID:Pacific/Midway
X-LIC-LOCATION:Pacific/Midway
BEGIN:STANDARD
TZOFFSETFROM:-1100
TZOFFSETTO:-1100
TZNAME:SST
DTSTART:19700101T000000
END:STANDARD
END:VTIMEZONE
BEGIN:VEVENT
UID:5072275:Event:967106
DTSTAMP:20260422T223502Z
SUMMARY:Annual Azalea Festival Motorcycle Car Show -Valdosta, GA
DESCRIPTION:Annual Open Motorcycle and Car Show on Sunday. In conjunc
 tion with the Azalea Festival\r\n\r\nIf you have any questions abo
 ut the festival, please contact us at (229) 269-9381. See you at the f
 estival!\r\nH. Aaron Strickland Executive Director\r\n\n\nFor more inf
 ormation visit https://www.southeastwheelsevents.com/events/annual-aza
 lea-festival-motorcycle-car-show-valdosta-ga
DTSTART;TZID=Pacific/Midway:20210314T100000
DTEND;TZID=Pacific/Midway:20210314T150000
CATEGORIES:car-show, festival
LOCATION:Downtown
WEBSITE:http://www.azaleafestival.com
URL:http://www.azaleafestival.com
CONTACT:H. Aaron Strickland -229-269-9381
ORGANIZER:Azalea Festival
ATTACH;FMTTYPE="image/jpeg":http://storage.ning.com/topology/rest/1.0/
 file/get/967572041?profile=original
ATTENDEE;ROLE=REQ-PARTICIPANT;PARTSTAT=ACCEPTED;RSVP=TRUE;CN="Chuck Aa
 ron":https://www.southeastwheelsevents.com/profile/ChuckAaron
END:VEVENT
END:VCALENDAR
