BEGIN:VCALENDAR
PRODID:NingEventWidget-v1
VERSION:2.0
METHOD:PUBLISH
BEGIN:VTIMEZONE
TZID:Pacific/Midway
X-LIC-LOCATION:Pacific/Midway
BEGIN:STANDARD
TZOFFSETFROM:-1100
TZOFFSETTO:-1100
TZNAME:SST
DTSTART:19700101T000000
END:STANDARD
END:VTIMEZONE
BEGIN:VEVENT
UID:5072275:Event:844388
DTSTAMP:20260419T044035Z
SUMMARY:Annual Brenner Childrens Hospital Toy Run -Greensboro, NC
DESCRIPTION:The 17th Annual Brenner Childrens Hospital Toy Run will s
 tart at Harley Davidson of Greensboro in Greensboro, North Carolina on
  December 13th, 2014.  Location: -Harley Davidson of Greensboro in Gre
 ensboro, North Carolina (538 Farragut Street, Greensboro, NC 27406)  R
 egistration: -$10 Donation or a new unwrapped toy  Ride to Brenner Chi
 ldren's Hospital at Wake Forest Baptist in Winston-Salem to help raise
  funds!   Event Hours: -Registration 11:00am-1:30pm -Ride leaves at 1
 :30pm  Please Contact For More Information: -events@hdofgreensboro.com
   We hope to see you there! \n\nFor more information visit https://ww
 w.southeastwheelsevents.com/events/annual-brenner-childrens-hospital-t
 oy-run-greensboro-nc
DTSTART;TZID=Pacific/Midway:20141213T110000
DTEND;TZID=Pacific/Midway:20141213T160000
CATEGORIES:bike, ride, toy, run
LOCATION:Harley Davidson of Greensboro
WEBSITE:http://www.hdofgreensboro.com
URL:http://www.hdofgreensboro.com
CONTACT:events@hdofgreensboro.com
ORGANIZER:Harley Davidson of Greensboro
ATTACH;FMTTYPE="image/jpeg":http://storage.ning.com/topology/rest/1.0/
 file/get/967669436?profile=original
ATTENDEE;ROLE=REQ-PARTICIPANT;PARTSTAT=ACCEPTED;RSVP=TRUE;CN="Chuck Aa
 ron":https://www.southeastwheelsevents.com/profile/ChuckAaron
END:VEVENT
END:VCALENDAR
