BEGIN:VCALENDAR
PRODID:NingEventWidget-v1
VERSION:2.0
METHOD:PUBLISH
BEGIN:VTIMEZONE
TZID:Pacific/Midway
X-LIC-LOCATION:Pacific/Midway
BEGIN:STANDARD
TZOFFSETFROM:-1100
TZOFFSETTO:-1100
TZNAME:SST
DTSTART:19700101T000000
END:STANDARD
END:VTIMEZONE
BEGIN:VEVENT
UID:5072275:Event:834821
DTSTAMP:20260425T024246Z
SUMMARY:Annual Car Show & Swap Meet -Rome, GA
DESCRIPTION:Sherwood Forest Baptist Church\nAnnual Car Show & Swap M
 eet 8 am. - 2 pm. Car registration fee is $20 and the fee for Swap Mee
 t vendors is $10.00 per spot.   If you are interested in helping or p
 articipating, please contact: Terry Maloney at  (706) 767-1243 or the
  church office at  706-291-6174.\n\nFor more information visit https:
 //www.southeastwheelsevents.com/events/annual-car-show-swap-meet-rome-
 ga
DTSTART;TZID=Pacific/Midway:20150926T080000
DTEND;TZID=Pacific/Midway:20150926T150000
CATEGORIES:car-show, swap-meet
LOCATION:Sherwood Forest Baptist Church
WEBSITE:
URL:
CONTACT:Terry Maloney at  (706) 767-1243 or the church office at  706-
 291-6174.
ORGANIZER:Sherwood Forest Baptist Church
ATTACH;FMTTYPE="image/jpeg":http://storage.ning.com/topology/rest/1.0/
 file/get/967671599?profile=original
ATTENDEE;ROLE=REQ-PARTICIPANT;PARTSTAT=ACCEPTED;RSVP=TRUE;CN="Chuck Aa
 ron":https://www.southeastwheelsevents.com/profile/ChuckAaron
END:VEVENT
END:VCALENDAR
