BEGIN:VCALENDAR
PRODID:NingEventWidget-v1
VERSION:2.0
METHOD:PUBLISH
BEGIN:VTIMEZONE
TZID:Pacific/Midway
X-LIC-LOCATION:Pacific/Midway
BEGIN:STANDARD
TZOFFSETFROM:-1100
TZOFFSETTO:-1100
TZNAME:SST
DTSTART:19700101T000000
END:STANDARD
END:VTIMEZONE
BEGIN:VEVENT
UID:5072275:Event:597567
DTSTAMP:20260424T133636Z
SUMMARY:Annual Car Show - Wallace, SC
DESCRIPTION:Annual Car Show at Wallace Church of the Nazarene - Walla
 ce, SC\n\nFor more information visit https://www.southeastwheelsevents
 .com/events/annual-car-show-wallace-sc
DTSTART;TZID=Pacific/Midway:20171111T080000
DTEND;TZID=Pacific/Midway:20171111T150000
CATEGORIES:car-show
LOCATION:Wallace Church of the Nazarene
WEBSITE:
URL:
CONTACT:843-479-6671
ORGANIZER:Bobby Norris
ATTACH;FMTTYPE="image/jpeg":http://storage.ning.com/topology/rest/1.0/
 file/get/967631873?profile=original
ATTENDEE;ROLE=REQ-PARTICIPANT;PARTSTAT=ACCEPTED;RSVP=TRUE;CN="Jack Tho
 mas":https://www.southeastwheelsevents.com/profile/JackThomas
END:VEVENT
END:VCALENDAR
