BEGIN:VCALENDAR
PRODID:NingEventWidget-v1
VERSION:2.0
METHOD:PUBLISH
BEGIN:VTIMEZONE
TZID:Pacific/Midway
X-LIC-LOCATION:Pacific/Midway
BEGIN:STANDARD
TZOFFSETFROM:-1100
TZOFFSETTO:-1100
TZNAME:SST
DTSTART:19700101T000000
END:STANDARD
END:VTIMEZONE
BEGIN:VEVENT
UID:5072275:Event:878750
DTSTAMP:20260422T053933Z
SUMMARY:Annual Charity Benefit Car Show -Fort Lauderdale , FL
DESCRIPTION:\n\n9th Annual Charity Benefit Open Car Show\n\nSaturday! 
 April 11, 2015\n\nAutonation Ford of Fort Lauderdale\n1333 Federal Hig
 hway North Ft. Lauderdale, FL 33304\nPre-Registration is open $15 / $2
 0 after April 8th\n \nClick for Show FAQs\nClick HERE for a pdf of 
 the show flyer.\n\n\n \nAll net proceeds from the show will be donat
 ed to the Children's Diagnostic & Treatment Center.\n\nShow hours are
  10 AM - 4 PMRegistration opens at 8:30 AM Judged vehicles should arr
 ive prior to 11 AM.\n\nHUGE SILENT AUCTION\nClick HERE for items bei
 ng sold\n2 tickets being auctioned for a ride in the Good Year Blimp o
 ut of Pompano Beach.\nIf you would like to bid on these tickets withou
 t being present at the Silent Auction, please contact us using the \"C
 ontact Us\" link above.\n\nA Ford DRIVE 4 UR COMMUNITY Event\nFord wil
 l donate $20 to CDTC for each test drive\n\nHard Rock Cafe Choice Awar
 d - $50 Dinner Gift Certificate\n\nThe first 20 non-FLMC Mustangs to r
 egister will receive a free Mustang 50th Poster\n\nThe first 20 Thunde
 rbirds to register will receive a free copy of Michael Lamm's book \"T
 hunderbird 2002\".\n\n\n\n\n\nOver 40 trophies\nDJ Rockin Rich will be
  playing all your favorite tunes\nDash Plaques to the first 100 vehicl
 es\n50/50 Raffle\nBBQ with Christian's famous pulled pork, hamburgers 
 & hotdogs and more\nStatic display by the Broward Sheriff's Office\nBS
 O Mounted Unit\nBSO Demonstration \nCrime Stoppers Live Action Charac
 ters\nVenders\n\n\n\nJudges use an MCA modifed check-off sheet. Concou
 rs judging is NOT offered at this show. Click HERE to download a PDF
  of our judging check-off sheet.\n\n\nFor more information visit https
 ://www.southeastwheelsevents.com/events/annual-charity-benefit-car-sho
 w-fort-lauderdale-fl
DTSTART;TZID=Pacific/Midway:20150411T100000
DTEND;TZID=Pacific/Midway:20150411T160000
CATEGORIES:car-show, festival, auction
LOCATION:Autonation Ford
WEBSITE:http://www.flmustangclub.com/FutureEvents.htm
URL:http://www.flmustangclub.com/FutureEvents.htm
CONTACT:vp@flmustangclub.com 954-779-3898
ORGANIZER:Ft. Lauderdale Mustang Club
ATTACH;FMTTYPE="image/jpeg":http://storage.ning.com/topology/rest/1.0/
 file/get/967687433?profile=original
ATTENDEE;ROLE=REQ-PARTICIPANT;PARTSTAT=ACCEPTED;RSVP=TRUE;CN="Chuck Aa
 ron":https://www.southeastwheelsevents.com/profile/ChuckAaron
END:VEVENT
END:VCALENDAR
