BEGIN:VCALENDAR
PRODID:NingEventWidget-v1
VERSION:2.0
METHOD:PUBLISH
BEGIN:VTIMEZONE
TZID:Pacific/Midway
X-LIC-LOCATION:Pacific/Midway
BEGIN:STANDARD
TZOFFSETFROM:-1100
TZOFFSETTO:-1100
TZNAME:SST
DTSTART:19700101T000000
END:STANDARD
END:VTIMEZONE
BEGIN:VEVENT
UID:5072275:Event:896446
DTSTAMP:20260425T114840Z
SUMMARY:Annual Classic Car Show -Eddyville, KY
DESCRIPTION:6th Annual 2015 Classic Car Show at Eddyville Mall parking
  lot, 385 Outlet Ave, Eddyville, KY. Registration 8am - Noon, Entry fe
 e $15.00, TOP 70 Awards presented at 3pm. More info contact Tom Ravell
 ette 270-206-0398. Portion of the proceeds benefit SUPPORT for TROOPS 
 and TOYS for TOTS.\nRain Date July 13th\n\n\nFor more information visi
 t https://www.southeastwheelsevents.com/events/annual-classic-car-show
 -eddyville-ky
DTSTART;TZID=Pacific/Midway:20150606T080000
DTEND;TZID=Pacific/Midway:20150606T160000
CATEGORIES:car-show
LOCATION:Eddyville Mall parking lot
WEBSITE:
URL:
CONTACT:Tom Ravellette 270-206-0398
ORGANIZER:
ATTACH;FMTTYPE="image/jpeg":http://storage.ning.com/topology/rest/1.0/
 file/get/967689496?profile=original
ATTENDEE;ROLE=REQ-PARTICIPANT;PARTSTAT=ACCEPTED;RSVP=TRUE;CN="Chuck Aa
 ron":https://www.southeastwheelsevents.com/profile/ChuckAaron
END:VEVENT
END:VCALENDAR
